BEGIN:VCALENDAR
VERSION:2.0
PRODID:-//Scouting St. Hubertus Kerkrade-West - ECPv6.15.20//NONSGML v1.0//EN
CALSCALE:GREGORIAN
METHOD:PUBLISH
X-WR-CALNAME:Scouting St. Hubertus Kerkrade-West
X-ORIGINAL-URL:https://scoutinghubertus.nl
X-WR-CALDESC:Evenementen voor Scouting St. Hubertus Kerkrade-West
REFRESH-INTERVAL;VALUE=DURATION:PT1H
X-Robots-Tag:noindex
X-PUBLISHED-TTL:PT1H
BEGIN:VTIMEZONE
TZID:Europe/Amsterdam
BEGIN:DAYLIGHT
TZOFFSETFROM:+0100
TZOFFSETTO:+0200
TZNAME:CEST
DTSTART:20220327T010000
END:DAYLIGHT
BEGIN:STANDARD
TZOFFSETFROM:+0200
TZOFFSETTO:+0100
TZNAME:CET
DTSTART:20221030T010000
END:STANDARD
BEGIN:DAYLIGHT
TZOFFSETFROM:+0100
TZOFFSETTO:+0200
TZNAME:CEST
DTSTART:20230326T010000
END:DAYLIGHT
BEGIN:STANDARD
TZOFFSETFROM:+0200
TZOFFSETTO:+0100
TZNAME:CET
DTSTART:20231029T010000
END:STANDARD
BEGIN:DAYLIGHT
TZOFFSETFROM:+0100
TZOFFSETTO:+0200
TZNAME:CEST
DTSTART:20240331T010000
END:DAYLIGHT
BEGIN:STANDARD
TZOFFSETFROM:+0200
TZOFFSETTO:+0100
TZNAME:CET
DTSTART:20241027T010000
END:STANDARD
BEGIN:DAYLIGHT
TZOFFSETFROM:+0100
TZOFFSETTO:+0200
TZNAME:CEST
DTSTART:20250330T010000
END:DAYLIGHT
BEGIN:STANDARD
TZOFFSETFROM:+0200
TZOFFSETTO:+0100
TZNAME:CET
DTSTART:20251026T010000
END:STANDARD
END:VTIMEZONE
BEGIN:VEVENT
DTSTART;TZID=Europe/Amsterdam:20240824T210000
DTEND;TZID=Europe/Amsterdam:20240824T230000
DTSTAMP:20260425T014437
CREATED:20231002T134125Z
LAST-MODIFIED:20231002T134125Z
UID:2852-1724533200-1724540400@scoutinghubertus.nl
SUMMARY:Opkomst Explorers (eerste opkomst seizoen 2024-2025)
DESCRIPTION:
URL:https://scoutinghubertus.nl/event/opkomst-explorers-eerste-opkomst-seizoen-2024-2025/
LOCATION:’t Stift\, Hammolenweg 7\, Kerkrade\, 6466 XT\, Nederland
CATEGORIES:Explorers Opkomsten
END:VEVENT
BEGIN:VEVENT
DTSTART;TZID=Europe/Amsterdam:20240622T210000
DTEND;TZID=Europe/Amsterdam:20240622T230000
DTSTAMP:20260425T014437
CREATED:20231002T134121Z
LAST-MODIFIED:20231002T134121Z
UID:2849-1719090000-1719097200@scoutinghubertus.nl
SUMMARY:Opkomst Explorers
DESCRIPTION:
URL:https://scoutinghubertus.nl/event/opkomst-explorers-48/
LOCATION:’t Stift\, Hammolenweg 7\, Kerkrade\, 6466 XT\, Nederland
CATEGORIES:Explorers Opkomsten
END:VEVENT
BEGIN:VEVENT
DTSTART;TZID=Europe/Amsterdam:20240615T210000
DTEND;TZID=Europe/Amsterdam:20240615T230000
DTSTAMP:20260425T014437
CREATED:20231002T134120Z
LAST-MODIFIED:20231002T134120Z
UID:2846-1718485200-1718492400@scoutinghubertus.nl
SUMMARY:Opkomst Explorers
DESCRIPTION:
URL:https://scoutinghubertus.nl/event/opkomst-explorers-47/
LOCATION:’t Stift\, Hammolenweg 7\, Kerkrade\, 6466 XT\, Nederland
CATEGORIES:Explorers Opkomsten
END:VEVENT
BEGIN:VEVENT
DTSTART;TZID=Europe/Amsterdam:20240608T210000
DTEND;TZID=Europe/Amsterdam:20240608T230000
DTSTAMP:20260425T014437
CREATED:20231002T134109Z
LAST-MODIFIED:20231002T134109Z
UID:2843-1717880400-1717887600@scoutinghubertus.nl
SUMMARY:Opkomst Explorers
DESCRIPTION:
URL:https://scoutinghubertus.nl/event/opkomst-explorers-46/
LOCATION:’t Stift\, Hammolenweg 7\, Kerkrade\, 6466 XT\, Nederland
CATEGORIES:Explorers Opkomsten
END:VEVENT
BEGIN:VEVENT
DTSTART;TZID=Europe/Amsterdam:20240601T210000
DTEND;TZID=Europe/Amsterdam:20240601T230000
DTSTAMP:20260425T014437
CREATED:20231002T134053Z
LAST-MODIFIED:20231002T134053Z
UID:2840-1717275600-1717282800@scoutinghubertus.nl
SUMMARY:Opkomst Explorers
DESCRIPTION:
URL:https://scoutinghubertus.nl/event/opkomst-explorers-45/
LOCATION:’t Stift\, Hammolenweg 7\, Kerkrade\, 6466 XT\, Nederland
CATEGORIES:Explorers Opkomsten
END:VEVENT
BEGIN:VEVENT
DTSTART;TZID=Europe/Amsterdam:20240525T210000
DTEND;TZID=Europe/Amsterdam:20240525T230000
DTSTAMP:20260425T014437
CREATED:20231002T134052Z
LAST-MODIFIED:20231002T134052Z
UID:2837-1716670800-1716678000@scoutinghubertus.nl
SUMMARY:Opkomst Explorers
DESCRIPTION:
URL:https://scoutinghubertus.nl/event/opkomst-explorers-44/
LOCATION:’t Stift\, Hammolenweg 7\, Kerkrade\, 6466 XT\, Nederland
CATEGORIES:Explorers Opkomsten
END:VEVENT
BEGIN:VEVENT
DTSTART;TZID=Europe/Amsterdam:20240518T210000
DTEND;TZID=Europe/Amsterdam:20240518T230000
DTSTAMP:20260425T014437
CREATED:20231002T134036Z
LAST-MODIFIED:20231002T134036Z
UID:2834-1716066000-1716073200@scoutinghubertus.nl
SUMMARY:Opkomst Explorers
DESCRIPTION:
URL:https://scoutinghubertus.nl/event/opkomst-explorers-43/
LOCATION:’t Stift\, Hammolenweg 7\, Kerkrade\, 6466 XT\, Nederland
CATEGORIES:Explorers Opkomsten
END:VEVENT
BEGIN:VEVENT
DTSTART;TZID=Europe/Amsterdam:20240427T210000
DTEND;TZID=Europe/Amsterdam:20240427T230000
DTSTAMP:20260425T014437
CREATED:20231002T134035Z
LAST-MODIFIED:20231002T134035Z
UID:2831-1714251600-1714258800@scoutinghubertus.nl
SUMMARY:Opkomst Explorers
DESCRIPTION:
URL:https://scoutinghubertus.nl/event/opkomst-explorers-42/
LOCATION:’t Stift\, Hammolenweg 7\, Kerkrade\, 6466 XT\, Nederland
CATEGORIES:Explorers Opkomsten
END:VEVENT
BEGIN:VEVENT
DTSTART;TZID=Europe/Amsterdam:20240420T210000
DTEND;TZID=Europe/Amsterdam:20240420T230000
DTSTAMP:20260425T014437
CREATED:20231002T134032Z
LAST-MODIFIED:20231002T134032Z
UID:2828-1713646800-1713654000@scoutinghubertus.nl
SUMMARY:Opkomst Explorers
DESCRIPTION:
URL:https://scoutinghubertus.nl/event/opkomst-explorers-41/
LOCATION:’t Stift\, Hammolenweg 7\, Kerkrade\, 6466 XT\, Nederland
CATEGORIES:Explorers Opkomsten
END:VEVENT
BEGIN:VEVENT
DTSTART;TZID=Europe/Amsterdam:20240413T210000
DTEND;TZID=Europe/Amsterdam:20240413T230000
DTSTAMP:20260425T014437
CREATED:20231002T133920Z
LAST-MODIFIED:20231002T133920Z
UID:2825-1713042000-1713049200@scoutinghubertus.nl
SUMMARY:Opkomst Explorers
DESCRIPTION:
URL:https://scoutinghubertus.nl/event/opkomst-explorers-40/
LOCATION:’t Stift\, Hammolenweg 7\, Kerkrade\, 6466 XT\, Nederland
CATEGORIES:Explorers Opkomsten
END:VEVENT
BEGIN:VEVENT
DTSTART;TZID=Europe/Amsterdam:20240406T210000
DTEND;TZID=Europe/Amsterdam:20240406T230000
DTSTAMP:20260425T014437
CREATED:20231002T133920Z
LAST-MODIFIED:20231002T133920Z
UID:2822-1712437200-1712444400@scoutinghubertus.nl
SUMMARY:Opkomst Explorers
DESCRIPTION:
URL:https://scoutinghubertus.nl/event/opkomst-explorers-39/
LOCATION:’t Stift\, Hammolenweg 7\, Kerkrade\, 6466 XT\, Nederland
CATEGORIES:Explorers Opkomsten
END:VEVENT
BEGIN:VEVENT
DTSTART;TZID=Europe/Amsterdam:20240323T210000
DTEND;TZID=Europe/Amsterdam:20240323T230000
DTSTAMP:20260425T014437
CREATED:20231002T133719Z
LAST-MODIFIED:20231002T133719Z
UID:2819-1711227600-1711234800@scoutinghubertus.nl
SUMMARY:Opkomst Explorers
DESCRIPTION:
URL:https://scoutinghubertus.nl/event/opkomst-explorers-38/
LOCATION:’t Stift\, Hammolenweg 7\, Kerkrade\, 6466 XT\, Nederland
CATEGORIES:Explorers Opkomsten
END:VEVENT
BEGIN:VEVENT
DTSTART;TZID=Europe/Amsterdam:20240316T210000
DTEND;TZID=Europe/Amsterdam:20240316T230000
DTSTAMP:20260425T014437
CREATED:20231002T133719Z
LAST-MODIFIED:20231002T133719Z
UID:2816-1710622800-1710630000@scoutinghubertus.nl
SUMMARY:Opkomst Explorers
DESCRIPTION:
URL:https://scoutinghubertus.nl/event/opkomst-explorers-37/
LOCATION:’t Stift\, Hammolenweg 7\, Kerkrade\, 6466 XT\, Nederland
CATEGORIES:Explorers Opkomsten
END:VEVENT
BEGIN:VEVENT
DTSTART;TZID=Europe/Amsterdam:20240309T210000
DTEND;TZID=Europe/Amsterdam:20240309T230000
DTSTAMP:20260425T014437
CREATED:20231002T133518Z
LAST-MODIFIED:20231002T133518Z
UID:2813-1710018000-1710025200@scoutinghubertus.nl
SUMMARY:Opkomst Explorers
DESCRIPTION:
URL:https://scoutinghubertus.nl/event/opkomst-explorers-36/
LOCATION:’t Stift\, Hammolenweg 7\, Kerkrade\, 6466 XT\, Nederland
CATEGORIES:Explorers Opkomsten
END:VEVENT
BEGIN:VEVENT
DTSTART;TZID=Europe/Amsterdam:20240302T210000
DTEND;TZID=Europe/Amsterdam:20240302T230000
DTSTAMP:20260425T014437
CREATED:20231002T133353Z
LAST-MODIFIED:20231002T133353Z
UID:2810-1709413200-1709420400@scoutinghubertus.nl
SUMMARY:Opkomst Explorers
DESCRIPTION:
URL:https://scoutinghubertus.nl/event/opkomst-explorers-35/
LOCATION:’t Stift\, Hammolenweg 7\, Kerkrade\, 6466 XT\, Nederland
CATEGORIES:Explorers Opkomsten
END:VEVENT
BEGIN:VEVENT
DTSTART;TZID=Europe/Amsterdam:20240224T210000
DTEND;TZID=Europe/Amsterdam:20240224T230000
DTSTAMP:20260425T014437
CREATED:20231002T133353Z
LAST-MODIFIED:20231002T133353Z
UID:2807-1708808400-1708815600@scoutinghubertus.nl
SUMMARY:Opkomst Explorers
DESCRIPTION:
URL:https://scoutinghubertus.nl/event/opkomst-explorers-34/
LOCATION:’t Stift\, Hammolenweg 7\, Kerkrade\, 6466 XT\, Nederland
CATEGORIES:Explorers Opkomsten
END:VEVENT
BEGIN:VEVENT
DTSTART;TZID=Europe/Amsterdam:20240203T210000
DTEND;TZID=Europe/Amsterdam:20240203T230000
DTSTAMP:20260425T014437
CREATED:20231002T133116Z
LAST-MODIFIED:20231002T133116Z
UID:2804-1706994000-1707001200@scoutinghubertus.nl
SUMMARY:Opkomst Explorers
DESCRIPTION:
URL:https://scoutinghubertus.nl/event/opkomst-explorers-33/
LOCATION:’t Stift\, Hammolenweg 7\, Kerkrade\, 6466 XT\, Nederland
CATEGORIES:Explorers Opkomsten
END:VEVENT
BEGIN:VEVENT
DTSTART;TZID=Europe/Amsterdam:20240127T210000
DTEND;TZID=Europe/Amsterdam:20240127T230000
DTSTAMP:20260425T014437
CREATED:20231002T133116Z
LAST-MODIFIED:20231002T133116Z
UID:2801-1706389200-1706396400@scoutinghubertus.nl
SUMMARY:Opkomst Explorers
DESCRIPTION:
URL:https://scoutinghubertus.nl/event/opkomst-explorers-32/
LOCATION:’t Stift\, Hammolenweg 7\, Kerkrade\, 6466 XT\, Nederland
CATEGORIES:Explorers Opkomsten
END:VEVENT
BEGIN:VEVENT
DTSTART;TZID=Europe/Amsterdam:20240120T210000
DTEND;TZID=Europe/Amsterdam:20240120T230000
DTSTAMP:20260425T014437
CREATED:20231002T133100Z
LAST-MODIFIED:20231002T133100Z
UID:2798-1705784400-1705791600@scoutinghubertus.nl
SUMMARY:Opkomst Explorers
DESCRIPTION:
URL:https://scoutinghubertus.nl/event/opkomst-explorers-31/
LOCATION:’t Stift\, Hammolenweg 7\, Kerkrade\, 6466 XT\, Nederland
CATEGORIES:Explorers Opkomsten
END:VEVENT
BEGIN:VEVENT
DTSTART;TZID=Europe/Amsterdam:20240113T210000
DTEND;TZID=Europe/Amsterdam:20240113T230000
DTSTAMP:20260425T014437
CREATED:20231002T133045Z
LAST-MODIFIED:20231002T133045Z
UID:2795-1705179600-1705186800@scoutinghubertus.nl
SUMMARY:Opkomst Explorers
DESCRIPTION:
URL:https://scoutinghubertus.nl/event/opkomst-explorers-30/
LOCATION:’t Stift\, Hammolenweg 7\, Kerkrade\, 6466 XT\, Nederland
CATEGORIES:Explorers Opkomsten
END:VEVENT
BEGIN:VEVENT
DTSTART;TZID=Europe/Amsterdam:20231223T210000
DTEND;TZID=Europe/Amsterdam:20231223T230000
DTSTAMP:20260425T014437
CREATED:20231002T133045Z
LAST-MODIFIED:20231002T133045Z
UID:2792-1703365200-1703372400@scoutinghubertus.nl
SUMMARY:Opkomst Explorers
DESCRIPTION:
URL:https://scoutinghubertus.nl/event/opkomst-explorers-29/
LOCATION:’t Stift\, Hammolenweg 7\, Kerkrade\, 6466 XT\, Nederland
CATEGORIES:Explorers Opkomsten
END:VEVENT
BEGIN:VEVENT
DTSTART;TZID=Europe/Amsterdam:20231209T210000
DTEND;TZID=Europe/Amsterdam:20231209T230000
DTSTAMP:20260425T014437
CREATED:20231002T133030Z
LAST-MODIFIED:20231002T133030Z
UID:2789-1702155600-1702162800@scoutinghubertus.nl
SUMMARY:Opkomst Explorers
DESCRIPTION:
URL:https://scoutinghubertus.nl/event/opkomst-explorers-28/
LOCATION:’t Stift\, Hammolenweg 7\, Kerkrade\, 6466 XT\, Nederland
CATEGORIES:Explorers Opkomsten
END:VEVENT
BEGIN:VEVENT
DTSTART;TZID=Europe/Amsterdam:20231202T210000
DTEND;TZID=Europe/Amsterdam:20231202T230000
DTSTAMP:20260425T014437
CREATED:20231002T133030Z
LAST-MODIFIED:20231002T133030Z
UID:2786-1701550800-1701558000@scoutinghubertus.nl
SUMMARY:Opkomst Explorers
DESCRIPTION:
URL:https://scoutinghubertus.nl/event/opkomst-explorers-27/
LOCATION:’t Stift\, Hammolenweg 7\, Kerkrade\, 6466 XT\, Nederland
CATEGORIES:Explorers Opkomsten
END:VEVENT
BEGIN:VEVENT
DTSTART;TZID=Europe/Amsterdam:20231125T210000
DTEND;TZID=Europe/Amsterdam:20231125T230000
DTSTAMP:20260425T014437
CREATED:20231002T133016Z
LAST-MODIFIED:20231002T133016Z
UID:2783-1700946000-1700953200@scoutinghubertus.nl
SUMMARY:Opkomst Explorers
DESCRIPTION:
URL:https://scoutinghubertus.nl/event/opkomst-explorers-26/
LOCATION:’t Stift\, Hammolenweg 7\, Kerkrade\, 6466 XT\, Nederland
CATEGORIES:Explorers Opkomsten
END:VEVENT
BEGIN:VEVENT
DTSTART;TZID=Europe/Amsterdam:20231118T210000
DTEND;TZID=Europe/Amsterdam:20231118T230000
DTSTAMP:20260425T014437
CREATED:20231002T133000Z
LAST-MODIFIED:20231002T133000Z
UID:2780-1700341200-1700348400@scoutinghubertus.nl
SUMMARY:Opkomst Explorers
DESCRIPTION:
URL:https://scoutinghubertus.nl/event/opkomst-explorers-25/
LOCATION:’t Stift\, Hammolenweg 7\, Kerkrade\, 6466 XT\, Nederland
CATEGORIES:Explorers Opkomsten
END:VEVENT
BEGIN:VEVENT
DTSTART;TZID=Europe/Amsterdam:20231111T210000
DTEND;TZID=Europe/Amsterdam:20231111T230000
DTSTAMP:20260425T014437
CREATED:20231002T133000Z
LAST-MODIFIED:20231002T133000Z
UID:2777-1699736400-1699743600@scoutinghubertus.nl
SUMMARY:Opkomst Explorers
DESCRIPTION:
URL:https://scoutinghubertus.nl/event/opkomst-explorers-24/
LOCATION:’t Stift\, Hammolenweg 7\, Kerkrade\, 6466 XT\, Nederland
CATEGORIES:Explorers Opkomsten
END:VEVENT
BEGIN:VEVENT
DTSTART;TZID=Europe/Amsterdam:20231104T210000
DTEND;TZID=Europe/Amsterdam:20231104T230000
DTSTAMP:20260425T014437
CREATED:20231002T132945Z
LAST-MODIFIED:20231002T132945Z
UID:2774-1699131600-1699138800@scoutinghubertus.nl
SUMMARY:Opkomst Explorers
DESCRIPTION:
URL:https://scoutinghubertus.nl/event/opkomst-explorers-23/
LOCATION:’t Stift\, Hammolenweg 7\, Kerkrade\, 6466 XT\, Nederland
CATEGORIES:Explorers Opkomsten
END:VEVENT
BEGIN:VEVENT
DTSTART;TZID=Europe/Amsterdam:20231028T210000
DTEND;TZID=Europe/Amsterdam:20231028T230000
DTSTAMP:20260425T014437
CREATED:20231002T132944Z
LAST-MODIFIED:20231002T132944Z
UID:2771-1698526800-1698534000@scoutinghubertus.nl
SUMMARY:Opkomst Explorers
DESCRIPTION:
URL:https://scoutinghubertus.nl/event/opkomst-explorers-22/
LOCATION:’t Stift\, Hammolenweg 7\, Kerkrade\, 6466 XT\, Nederland
CATEGORIES:Explorers Opkomsten
END:VEVENT
BEGIN:VEVENT
DTSTART;TZID=Europe/Amsterdam:20231014T210000
DTEND;TZID=Europe/Amsterdam:20231014T230000
DTSTAMP:20260425T014437
CREATED:20231002T132942Z
LAST-MODIFIED:20231002T132942Z
UID:2768-1697317200-1697324400@scoutinghubertus.nl
SUMMARY:Opkomst Explorers
DESCRIPTION:
URL:https://scoutinghubertus.nl/event/opkomst-explorers-21/
LOCATION:’t Stift\, Hammolenweg 7\, Kerkrade\, 6466 XT\, Nederland
CATEGORIES:Explorers Opkomsten
END:VEVENT
BEGIN:VEVENT
DTSTART;TZID=Europe/Amsterdam:20231007T210000
DTEND;TZID=Europe/Amsterdam:20231007T230000
DTSTAMP:20260425T014437
CREATED:20231002T131002Z
LAST-MODIFIED:20231002T131002Z
UID:2763-1696712400-1696719600@scoutinghubertus.nl
SUMMARY:Opkomst Explorers
DESCRIPTION:
URL:https://scoutinghubertus.nl/event/opkomst-explorers-20/
LOCATION:’t Stift\, Hammolenweg 7\, Kerkrade\, 6466 XT\, Nederland
CATEGORIES:Explorers Opkomsten
END:VEVENT
END:VCALENDAR