BEGIN:VCALENDAR
VERSION:2.0
PRODID:-//Scouting St. Hubertus Kerkrade-West - ECPv6.15.20//NONSGML v1.0//EN
CALSCALE:GREGORIAN
METHOD:PUBLISH
X-WR-CALNAME:Scouting St. Hubertus Kerkrade-West
X-ORIGINAL-URL:https://scoutinghubertus.nl
X-WR-CALDESC:Evenementen voor Scouting St. Hubertus Kerkrade-West
REFRESH-INTERVAL;VALUE=DURATION:PT1H
X-Robots-Tag:noindex
X-PUBLISHED-TTL:PT1H
BEGIN:VTIMEZONE
TZID:Europe/Amsterdam
BEGIN:DAYLIGHT
TZOFFSETFROM:+0100
TZOFFSETTO:+0200
TZNAME:CEST
DTSTART:20230326T010000
END:DAYLIGHT
BEGIN:STANDARD
TZOFFSETFROM:+0200
TZOFFSETTO:+0100
TZNAME:CET
DTSTART:20231029T010000
END:STANDARD
BEGIN:DAYLIGHT
TZOFFSETFROM:+0100
TZOFFSETTO:+0200
TZNAME:CEST
DTSTART:20240331T010000
END:DAYLIGHT
BEGIN:STANDARD
TZOFFSETFROM:+0200
TZOFFSETTO:+0100
TZNAME:CET
DTSTART:20241027T010000
END:STANDARD
BEGIN:DAYLIGHT
TZOFFSETFROM:+0100
TZOFFSETTO:+0200
TZNAME:CEST
DTSTART:20250330T010000
END:DAYLIGHT
BEGIN:STANDARD
TZOFFSETFROM:+0200
TZOFFSETTO:+0100
TZNAME:CET
DTSTART:20251026T010000
END:STANDARD
END:VTIMEZONE
BEGIN:VEVENT
DTSTART;TZID=Europe/Amsterdam:20240309T100000
DTEND;TZID=Europe/Amsterdam:20240309T120000
DTSTAMP:20260425T170152
CREATED:20231002T133518Z
LAST-MODIFIED:20231002T133518Z
UID:2811-1709978400-1709985600@scoutinghubertus.nl
SUMMARY:Opkomst Welpen
DESCRIPTION:
URL:https://scoutinghubertus.nl/event/opkomst-welpen-62/
LOCATION:’t Stift\, Hammolenweg 7\, Kerkrade\, 6466 XT\, Nederland
CATEGORIES:Welpen Opkomsten
END:VEVENT
BEGIN:VEVENT
DTSTART;TZID=Europe/Amsterdam:20240309T190000
DTEND;TZID=Europe/Amsterdam:20240309T210000
DTSTAMP:20260425T170152
CREATED:20231002T133518Z
LAST-MODIFIED:20231002T133518Z
UID:2812-1710010800-1710018000@scoutinghubertus.nl
SUMMARY:Opkomst Scouts
DESCRIPTION:
URL:https://scoutinghubertus.nl/event/opkomst-scouts-20/
LOCATION:’t Stift\, Hammolenweg 7\, Kerkrade\, 6466 XT\, Nederland
CATEGORIES:Scouts Opkomsten
END:VEVENT
BEGIN:VEVENT
DTSTART;TZID=Europe/Amsterdam:20240309T210000
DTEND;TZID=Europe/Amsterdam:20240309T230000
DTSTAMP:20260425T170152
CREATED:20231002T133518Z
LAST-MODIFIED:20231002T133518Z
UID:2813-1710018000-1710025200@scoutinghubertus.nl
SUMMARY:Opkomst Explorers
DESCRIPTION:
URL:https://scoutinghubertus.nl/event/opkomst-explorers-36/
LOCATION:’t Stift\, Hammolenweg 7\, Kerkrade\, 6466 XT\, Nederland
CATEGORIES:Explorers Opkomsten
END:VEVENT
BEGIN:VEVENT
DTSTART;TZID=Europe/Amsterdam:20240316T100000
DTEND;TZID=Europe/Amsterdam:20240316T120000
DTSTAMP:20260425T170152
CREATED:20231002T133518Z
LAST-MODIFIED:20231002T133518Z
UID:2814-1710583200-1710590400@scoutinghubertus.nl
SUMMARY:Opkomst Welpen
DESCRIPTION:
URL:https://scoutinghubertus.nl/event/opkomst-welpen-63/
LOCATION:’t Stift\, Hammolenweg 7\, Kerkrade\, 6466 XT\, Nederland
CATEGORIES:Welpen Opkomsten
END:VEVENT
BEGIN:VEVENT
DTSTART;TZID=Europe/Amsterdam:20240316T190000
DTEND;TZID=Europe/Amsterdam:20240316T210000
DTSTAMP:20260425T170152
CREATED:20231002T133518Z
LAST-MODIFIED:20231002T133518Z
UID:2815-1710615600-1710622800@scoutinghubertus.nl
SUMMARY:Opkomst Scouts
DESCRIPTION:
URL:https://scoutinghubertus.nl/event/opkomst-scouts-21/
LOCATION:’t Stift\, Hammolenweg 7\, Kerkrade\, 6466 XT\, Nederland
CATEGORIES:Scouts Opkomsten
END:VEVENT
BEGIN:VEVENT
DTSTART;TZID=Europe/Amsterdam:20240316T210000
DTEND;TZID=Europe/Amsterdam:20240316T230000
DTSTAMP:20260425T170152
CREATED:20231002T133719Z
LAST-MODIFIED:20231002T133719Z
UID:2816-1710622800-1710630000@scoutinghubertus.nl
SUMMARY:Opkomst Explorers
DESCRIPTION:
URL:https://scoutinghubertus.nl/event/opkomst-explorers-37/
LOCATION:’t Stift\, Hammolenweg 7\, Kerkrade\, 6466 XT\, Nederland
CATEGORIES:Explorers Opkomsten
END:VEVENT
BEGIN:VEVENT
DTSTART;TZID=Europe/Amsterdam:20240323T100000
DTEND;TZID=Europe/Amsterdam:20240323T120000
DTSTAMP:20260425T170152
CREATED:20231002T133719Z
LAST-MODIFIED:20231002T133719Z
UID:2817-1711188000-1711195200@scoutinghubertus.nl
SUMMARY:Opkomst Welpen
DESCRIPTION:
URL:https://scoutinghubertus.nl/event/opkomst-welpen-64/
LOCATION:’t Stift\, Hammolenweg 7\, Kerkrade\, 6466 XT\, Nederland
CATEGORIES:Welpen Opkomsten
END:VEVENT
BEGIN:VEVENT
DTSTART;TZID=Europe/Amsterdam:20240323T190000
DTEND;TZID=Europe/Amsterdam:20240323T210000
DTSTAMP:20260425T170152
CREATED:20231002T133719Z
LAST-MODIFIED:20231002T133719Z
UID:2818-1711220400-1711227600@scoutinghubertus.nl
SUMMARY:Opkomst Scouts
DESCRIPTION:
URL:https://scoutinghubertus.nl/event/opkomst-scouts-22/
LOCATION:’t Stift\, Hammolenweg 7\, Kerkrade\, 6466 XT\, Nederland
CATEGORIES:Scouts Opkomsten
END:VEVENT
BEGIN:VEVENT
DTSTART;TZID=Europe/Amsterdam:20240323T210000
DTEND;TZID=Europe/Amsterdam:20240323T230000
DTSTAMP:20260425T170152
CREATED:20231002T133719Z
LAST-MODIFIED:20231002T133719Z
UID:2819-1711227600-1711234800@scoutinghubertus.nl
SUMMARY:Opkomst Explorers
DESCRIPTION:
URL:https://scoutinghubertus.nl/event/opkomst-explorers-38/
LOCATION:’t Stift\, Hammolenweg 7\, Kerkrade\, 6466 XT\, Nederland
CATEGORIES:Explorers Opkomsten
END:VEVENT
BEGIN:VEVENT
DTSTART;TZID=Europe/Amsterdam:20240406T100000
DTEND;TZID=Europe/Amsterdam:20240406T120000
DTSTAMP:20260425T170152
CREATED:20231002T133719Z
LAST-MODIFIED:20231002T133719Z
UID:2820-1712397600-1712404800@scoutinghubertus.nl
SUMMARY:Opkomst Welpen
DESCRIPTION:
URL:https://scoutinghubertus.nl/event/opkomst-welpen-65/
LOCATION:’t Stift\, Hammolenweg 7\, Kerkrade\, 6466 XT\, Nederland
CATEGORIES:Welpen Opkomsten
END:VEVENT
BEGIN:VEVENT
DTSTART;TZID=Europe/Amsterdam:20240406T190000
DTEND;TZID=Europe/Amsterdam:20240406T210000
DTSTAMP:20260425T170152
CREATED:20231002T133919Z
LAST-MODIFIED:20231002T133919Z
UID:2821-1712430000-1712437200@scoutinghubertus.nl
SUMMARY:Opkomst Scouts
DESCRIPTION:
URL:https://scoutinghubertus.nl/event/opkomst-scouts-78/
LOCATION:’t Stift\, Hammolenweg 7\, Kerkrade\, 6466 XT\, Nederland
CATEGORIES:Scouts Opkomsten
END:VEVENT
BEGIN:VEVENT
DTSTART;TZID=Europe/Amsterdam:20240406T210000
DTEND;TZID=Europe/Amsterdam:20240406T230000
DTSTAMP:20260425T170152
CREATED:20231002T133920Z
LAST-MODIFIED:20231002T133920Z
UID:2822-1712437200-1712444400@scoutinghubertus.nl
SUMMARY:Opkomst Explorers
DESCRIPTION:
URL:https://scoutinghubertus.nl/event/opkomst-explorers-39/
LOCATION:’t Stift\, Hammolenweg 7\, Kerkrade\, 6466 XT\, Nederland
CATEGORIES:Explorers Opkomsten
END:VEVENT
BEGIN:VEVENT
DTSTART;TZID=Europe/Amsterdam:20240413T100000
DTEND;TZID=Europe/Amsterdam:20240413T120000
DTSTAMP:20260425T170152
CREATED:20231002T133920Z
LAST-MODIFIED:20231002T133920Z
UID:2823-1713002400-1713009600@scoutinghubertus.nl
SUMMARY:Opkomst Welpen
DESCRIPTION:
URL:https://scoutinghubertus.nl/event/opkomst-welpen-66/
LOCATION:’t Stift\, Hammolenweg 7\, Kerkrade\, 6466 XT\, Nederland
CATEGORIES:Welpen Opkomsten
END:VEVENT
BEGIN:VEVENT
DTSTART;TZID=Europe/Amsterdam:20240413T190000
DTEND;TZID=Europe/Amsterdam:20240413T210000
DTSTAMP:20260425T170152
CREATED:20231002T133920Z
LAST-MODIFIED:20231002T133920Z
UID:2824-1713034800-1713042000@scoutinghubertus.nl
SUMMARY:Opkomst Scouts
DESCRIPTION:
URL:https://scoutinghubertus.nl/event/opkomst-scouts-79/
LOCATION:’t Stift\, Hammolenweg 7\, Kerkrade\, 6466 XT\, Nederland
CATEGORIES:Scouts Opkomsten
END:VEVENT
BEGIN:VEVENT
DTSTART;TZID=Europe/Amsterdam:20240413T210000
DTEND;TZID=Europe/Amsterdam:20240413T230000
DTSTAMP:20260425T170152
CREATED:20231002T133920Z
LAST-MODIFIED:20231002T133920Z
UID:2825-1713042000-1713049200@scoutinghubertus.nl
SUMMARY:Opkomst Explorers
DESCRIPTION:
URL:https://scoutinghubertus.nl/event/opkomst-explorers-40/
LOCATION:’t Stift\, Hammolenweg 7\, Kerkrade\, 6466 XT\, Nederland
CATEGORIES:Explorers Opkomsten
END:VEVENT
BEGIN:VEVENT
DTSTART;TZID=Europe/Amsterdam:20240420T100000
DTEND;TZID=Europe/Amsterdam:20240420T120000
DTSTAMP:20260425T170152
CREATED:20231002T134032Z
LAST-MODIFIED:20231002T134032Z
UID:2826-1713607200-1713614400@scoutinghubertus.nl
SUMMARY:Opkomst Welpen
DESCRIPTION:
URL:https://scoutinghubertus.nl/event/opkomst-welpen-67/
LOCATION:’t Stift\, Hammolenweg 7\, Kerkrade\, 6466 XT\, Nederland
CATEGORIES:Welpen Opkomsten
END:VEVENT
BEGIN:VEVENT
DTSTART;TZID=Europe/Amsterdam:20240420T190000
DTEND;TZID=Europe/Amsterdam:20240420T210000
DTSTAMP:20260425T170152
CREATED:20231002T134032Z
LAST-MODIFIED:20231002T134032Z
UID:2827-1713639600-1713646800@scoutinghubertus.nl
SUMMARY:Opkomst Scouts
DESCRIPTION:
URL:https://scoutinghubertus.nl/event/opkomst-scouts-80/
LOCATION:’t Stift\, Hammolenweg 7\, Kerkrade\, 6466 XT\, Nederland
CATEGORIES:Scouts Opkomsten
END:VEVENT
BEGIN:VEVENT
DTSTART;TZID=Europe/Amsterdam:20240420T210000
DTEND;TZID=Europe/Amsterdam:20240420T230000
DTSTAMP:20260425T170152
CREATED:20231002T134032Z
LAST-MODIFIED:20231002T134032Z
UID:2828-1713646800-1713654000@scoutinghubertus.nl
SUMMARY:Opkomst Explorers
DESCRIPTION:
URL:https://scoutinghubertus.nl/event/opkomst-explorers-41/
LOCATION:’t Stift\, Hammolenweg 7\, Kerkrade\, 6466 XT\, Nederland
CATEGORIES:Explorers Opkomsten
END:VEVENT
BEGIN:VEVENT
DTSTART;TZID=Europe/Amsterdam:20240427T100000
DTEND;TZID=Europe/Amsterdam:20240427T120000
DTSTAMP:20260425T170152
CREATED:20231002T134032Z
LAST-MODIFIED:20231002T134032Z
UID:2829-1714212000-1714219200@scoutinghubertus.nl
SUMMARY:Opkomst Welpen
DESCRIPTION:
URL:https://scoutinghubertus.nl/event/opkomst-welpen-68/
LOCATION:’t Stift\, Hammolenweg 7\, Kerkrade\, 6466 XT\, Nederland
CATEGORIES:Welpen Opkomsten
END:VEVENT
BEGIN:VEVENT
DTSTART;TZID=Europe/Amsterdam:20240427T190000
DTEND;TZID=Europe/Amsterdam:20240427T210000
DTSTAMP:20260425T170152
CREATED:20231002T134032Z
LAST-MODIFIED:20231002T134032Z
UID:2830-1714244400-1714251600@scoutinghubertus.nl
SUMMARY:Opkomst Scouts
DESCRIPTION:
URL:https://scoutinghubertus.nl/event/opkomst-scouts-81/
LOCATION:’t Stift\, Hammolenweg 7\, Kerkrade\, 6466 XT\, Nederland
CATEGORIES:Scouts Opkomsten
END:VEVENT
BEGIN:VEVENT
DTSTART;TZID=Europe/Amsterdam:20240427T210000
DTEND;TZID=Europe/Amsterdam:20240427T230000
DTSTAMP:20260425T170152
CREATED:20231002T134035Z
LAST-MODIFIED:20231002T134035Z
UID:2831-1714251600-1714258800@scoutinghubertus.nl
SUMMARY:Opkomst Explorers
DESCRIPTION:
URL:https://scoutinghubertus.nl/event/opkomst-explorers-42/
LOCATION:’t Stift\, Hammolenweg 7\, Kerkrade\, 6466 XT\, Nederland
CATEGORIES:Explorers Opkomsten
END:VEVENT
BEGIN:VEVENT
DTSTART;TZID=Europe/Amsterdam:20240518T100000
DTEND;TZID=Europe/Amsterdam:20240518T120000
DTSTAMP:20260425T170152
CREATED:20231002T134035Z
LAST-MODIFIED:20231002T134035Z
UID:2832-1716026400-1716033600@scoutinghubertus.nl
SUMMARY:Opkomst Welpen
DESCRIPTION:
URL:https://scoutinghubertus.nl/event/opkomst-welpen-69/
LOCATION:’t Stift\, Hammolenweg 7\, Kerkrade\, 6466 XT\, Nederland
CATEGORIES:Welpen Opkomsten
END:VEVENT
BEGIN:VEVENT
DTSTART;TZID=Europe/Amsterdam:20240518T190000
DTEND;TZID=Europe/Amsterdam:20240518T210000
DTSTAMP:20260425T170152
CREATED:20231002T134036Z
LAST-MODIFIED:20231002T134036Z
UID:2833-1716058800-1716066000@scoutinghubertus.nl
SUMMARY:Opkomst Scouts
DESCRIPTION:
URL:https://scoutinghubertus.nl/event/opkomst-scouts-82/
LOCATION:’t Stift\, Hammolenweg 7\, Kerkrade\, 6466 XT\, Nederland
CATEGORIES:Scouts Opkomsten
END:VEVENT
BEGIN:VEVENT
DTSTART;TZID=Europe/Amsterdam:20240518T210000
DTEND;TZID=Europe/Amsterdam:20240518T230000
DTSTAMP:20260425T170152
CREATED:20231002T134036Z
LAST-MODIFIED:20231002T134036Z
UID:2834-1716066000-1716073200@scoutinghubertus.nl
SUMMARY:Opkomst Explorers
DESCRIPTION:
URL:https://scoutinghubertus.nl/event/opkomst-explorers-43/
LOCATION:’t Stift\, Hammolenweg 7\, Kerkrade\, 6466 XT\, Nederland
CATEGORIES:Explorers Opkomsten
END:VEVENT
BEGIN:VEVENT
DTSTART;TZID=Europe/Amsterdam:20240525T100000
DTEND;TZID=Europe/Amsterdam:20240525T120000
DTSTAMP:20260425T170152
CREATED:20231002T134036Z
LAST-MODIFIED:20231002T134036Z
UID:2835-1716631200-1716638400@scoutinghubertus.nl
SUMMARY:Opkomst Welpen
DESCRIPTION:
URL:https://scoutinghubertus.nl/event/opkomst-welpen-70/
LOCATION:’t Stift\, Hammolenweg 7\, Kerkrade\, 6466 XT\, Nederland
CATEGORIES:Welpen Opkomsten
END:VEVENT
BEGIN:VEVENT
DTSTART;TZID=Europe/Amsterdam:20240525T190000
DTEND;TZID=Europe/Amsterdam:20240525T210000
DTSTAMP:20260425T170152
CREATED:20231002T134052Z
LAST-MODIFIED:20231002T134052Z
UID:2836-1716663600-1716670800@scoutinghubertus.nl
SUMMARY:Opkomst Scouts
DESCRIPTION:
URL:https://scoutinghubertus.nl/event/opkomst-scouts-83/
LOCATION:’t Stift\, Hammolenweg 7\, Kerkrade\, 6466 XT\, Nederland
CATEGORIES:Scouts Opkomsten
END:VEVENT
BEGIN:VEVENT
DTSTART;TZID=Europe/Amsterdam:20240525T210000
DTEND;TZID=Europe/Amsterdam:20240525T230000
DTSTAMP:20260425T170152
CREATED:20231002T134052Z
LAST-MODIFIED:20231002T134052Z
UID:2837-1716670800-1716678000@scoutinghubertus.nl
SUMMARY:Opkomst Explorers
DESCRIPTION:
URL:https://scoutinghubertus.nl/event/opkomst-explorers-44/
LOCATION:’t Stift\, Hammolenweg 7\, Kerkrade\, 6466 XT\, Nederland
CATEGORIES:Explorers Opkomsten
END:VEVENT
BEGIN:VEVENT
DTSTART;TZID=Europe/Amsterdam:20240601T100000
DTEND;TZID=Europe/Amsterdam:20240601T120000
DTSTAMP:20260425T170152
CREATED:20231002T134052Z
LAST-MODIFIED:20231002T134052Z
UID:2838-1717236000-1717243200@scoutinghubertus.nl
SUMMARY:Opkomst Welpen
DESCRIPTION:
URL:https://scoutinghubertus.nl/event/opkomst-welpen-71/
LOCATION:’t Stift\, Hammolenweg 7\, Kerkrade\, 6466 XT\, Nederland
CATEGORIES:Welpen Opkomsten
END:VEVENT
BEGIN:VEVENT
DTSTART;TZID=Europe/Amsterdam:20240601T190000
DTEND;TZID=Europe/Amsterdam:20240601T210000
DTSTAMP:20260425T170152
CREATED:20231002T134052Z
LAST-MODIFIED:20231002T134052Z
UID:2839-1717268400-1717275600@scoutinghubertus.nl
SUMMARY:Opkomst Scouts
DESCRIPTION:
URL:https://scoutinghubertus.nl/event/opkomst-scouts-84/
LOCATION:’t Stift\, Hammolenweg 7\, Kerkrade\, 6466 XT\, Nederland
CATEGORIES:Scouts Opkomsten
END:VEVENT
BEGIN:VEVENT
DTSTART;TZID=Europe/Amsterdam:20240601T210000
DTEND;TZID=Europe/Amsterdam:20240601T230000
DTSTAMP:20260425T170152
CREATED:20231002T134053Z
LAST-MODIFIED:20231002T134053Z
UID:2840-1717275600-1717282800@scoutinghubertus.nl
SUMMARY:Opkomst Explorers
DESCRIPTION:
URL:https://scoutinghubertus.nl/event/opkomst-explorers-45/
LOCATION:’t Stift\, Hammolenweg 7\, Kerkrade\, 6466 XT\, Nederland
CATEGORIES:Explorers Opkomsten
END:VEVENT
END:VCALENDAR