BEGIN:VCALENDAR
VERSION:2.0
PRODID:-//Scouting St. Hubertus Kerkrade-West - ECPv6.15.20//NONSGML v1.0//EN
CALSCALE:GREGORIAN
METHOD:PUBLISH
X-ORIGINAL-URL:https://scoutinghubertus.nl
X-WR-CALDESC:Evenementen voor Scouting St. Hubertus Kerkrade-West
REFRESH-INTERVAL;VALUE=DURATION:PT1H
X-Robots-Tag:noindex
X-PUBLISHED-TTL:PT1H
BEGIN:VTIMEZONE
TZID:Europe/Amsterdam
BEGIN:DAYLIGHT
TZOFFSETFROM:+0100
TZOFFSETTO:+0200
TZNAME:CEST
DTSTART:20220327T010000
END:DAYLIGHT
BEGIN:STANDARD
TZOFFSETFROM:+0200
TZOFFSETTO:+0100
TZNAME:CET
DTSTART:20221030T010000
END:STANDARD
BEGIN:DAYLIGHT
TZOFFSETFROM:+0100
TZOFFSETTO:+0200
TZNAME:CEST
DTSTART:20230326T010000
END:DAYLIGHT
BEGIN:STANDARD
TZOFFSETFROM:+0200
TZOFFSETTO:+0100
TZNAME:CET
DTSTART:20231029T010000
END:STANDARD
BEGIN:DAYLIGHT
TZOFFSETFROM:+0100
TZOFFSETTO:+0200
TZNAME:CEST
DTSTART:20240331T010000
END:DAYLIGHT
BEGIN:STANDARD
TZOFFSETFROM:+0200
TZOFFSETTO:+0100
TZNAME:CET
DTSTART:20241027T010000
END:STANDARD
BEGIN:DAYLIGHT
TZOFFSETFROM:+0100
TZOFFSETTO:+0200
TZNAME:CEST
DTSTART:20250330T010000
END:DAYLIGHT
BEGIN:STANDARD
TZOFFSETFROM:+0200
TZOFFSETTO:+0100
TZNAME:CET
DTSTART:20251026T010000
END:STANDARD
END:VTIMEZONE
BEGIN:VEVENT
DTSTART;TZID=Europe/Amsterdam:20231014T100000
DTEND;TZID=Europe/Amsterdam:20231014T120000
DTSTAMP:20260425T151024
CREATED:20231002T132942Z
LAST-MODIFIED:20231002T132942Z
UID:2766-1697277600-1697284800@scoutinghubertus.nl
SUMMARY:Opkomst Welpen
DESCRIPTION:
URL:https://scoutinghubertus.nl/event/opkomst-welpen-5/
LOCATION:’t Stift\, Hammolenweg 7\, Kerkrade\, 6466 XT\, Nederland
CATEGORIES:Welpen Opkomsten
END:VEVENT
BEGIN:VEVENT
DTSTART;TZID=Europe/Amsterdam:20231014T190000
DTEND;TZID=Europe/Amsterdam:20231014T210000
DTSTAMP:20260425T151024
CREATED:20231002T132942Z
LAST-MODIFIED:20231002T132942Z
UID:2767-1697310000-1697317200@scoutinghubertus.nl
SUMMARY:Opkomst Scouts
DESCRIPTION:
URL:https://scoutinghubertus.nl/event/opkomst-scouts-5/
LOCATION:’t Stift\, Hammolenweg 7\, Kerkrade\, 6466 XT\, Nederland
CATEGORIES:Scouts Opkomsten
END:VEVENT
BEGIN:VEVENT
DTSTART;TZID=Europe/Amsterdam:20231014T210000
DTEND;TZID=Europe/Amsterdam:20231014T230000
DTSTAMP:20260425T151024
CREATED:20231002T132942Z
LAST-MODIFIED:20231002T132942Z
UID:2768-1697317200-1697324400@scoutinghubertus.nl
SUMMARY:Opkomst Explorers
DESCRIPTION:
URL:https://scoutinghubertus.nl/event/opkomst-explorers-21/
LOCATION:’t Stift\, Hammolenweg 7\, Kerkrade\, 6466 XT\, Nederland
CATEGORIES:Explorers Opkomsten
END:VEVENT
BEGIN:VEVENT
DTSTART;TZID=Europe/Amsterdam:20231028T100000
DTEND;TZID=Europe/Amsterdam:20231028T120000
DTSTAMP:20260425T151024
CREATED:20231002T132943Z
LAST-MODIFIED:20231002T132943Z
UID:2769-1698487200-1698494400@scoutinghubertus.nl
SUMMARY:Opkomst Welpen
DESCRIPTION:
URL:https://scoutinghubertus.nl/event/opkomst-welpen-6/
LOCATION:’t Stift\, Hammolenweg 7\, Kerkrade\, 6466 XT\, Nederland
CATEGORIES:Welpen Opkomsten
END:VEVENT
BEGIN:VEVENT
DTSTART;TZID=Europe/Amsterdam:20231028T190000
DTEND;TZID=Europe/Amsterdam:20231028T210000
DTSTAMP:20260425T151024
CREATED:20231002T132943Z
LAST-MODIFIED:20231002T132943Z
UID:2770-1698519600-1698526800@scoutinghubertus.nl
SUMMARY:Opkomst Scouts
DESCRIPTION:
URL:https://scoutinghubertus.nl/event/opkomst-scouts-6/
LOCATION:’t Stift\, Hammolenweg 7\, Kerkrade\, 6466 XT\, Nederland
CATEGORIES:Scouts Opkomsten
END:VEVENT
BEGIN:VEVENT
DTSTART;TZID=Europe/Amsterdam:20231028T210000
DTEND;TZID=Europe/Amsterdam:20231028T230000
DTSTAMP:20260425T151024
CREATED:20231002T132944Z
LAST-MODIFIED:20231002T132944Z
UID:2771-1698526800-1698534000@scoutinghubertus.nl
SUMMARY:Opkomst Explorers
DESCRIPTION:
URL:https://scoutinghubertus.nl/event/opkomst-explorers-22/
LOCATION:’t Stift\, Hammolenweg 7\, Kerkrade\, 6466 XT\, Nederland
CATEGORIES:Explorers Opkomsten
END:VEVENT
BEGIN:VEVENT
DTSTART;TZID=Europe/Amsterdam:20231104T100000
DTEND;TZID=Europe/Amsterdam:20231104T120000
DTSTAMP:20260425T151024
CREATED:20231002T132944Z
LAST-MODIFIED:20231002T132944Z
UID:2772-1699092000-1699099200@scoutinghubertus.nl
SUMMARY:Opkomst Welpen
DESCRIPTION:
URL:https://scoutinghubertus.nl/event/opkomst-welpen-7/
LOCATION:’t Stift\, Hammolenweg 7\, Kerkrade\, 6466 XT\, Nederland
CATEGORIES:Welpen Opkomsten
END:VEVENT
BEGIN:VEVENT
DTSTART;TZID=Europe/Amsterdam:20231104T190000
DTEND;TZID=Europe/Amsterdam:20231104T210000
DTSTAMP:20260425T151024
CREATED:20231002T132945Z
LAST-MODIFIED:20231002T132945Z
UID:2773-1699124400-1699131600@scoutinghubertus.nl
SUMMARY:Opkomst Scouts
DESCRIPTION:
URL:https://scoutinghubertus.nl/event/opkomst-scouts-7/
LOCATION:’t Stift\, Hammolenweg 7\, Kerkrade\, 6466 XT\, Nederland
CATEGORIES:Scouts Opkomsten
END:VEVENT
BEGIN:VEVENT
DTSTART;TZID=Europe/Amsterdam:20231104T210000
DTEND;TZID=Europe/Amsterdam:20231104T230000
DTSTAMP:20260425T151024
CREATED:20231002T132945Z
LAST-MODIFIED:20231002T132945Z
UID:2774-1699131600-1699138800@scoutinghubertus.nl
SUMMARY:Opkomst Explorers
DESCRIPTION:
URL:https://scoutinghubertus.nl/event/opkomst-explorers-23/
LOCATION:’t Stift\, Hammolenweg 7\, Kerkrade\, 6466 XT\, Nederland
CATEGORIES:Explorers Opkomsten
END:VEVENT
BEGIN:VEVENT
DTSTART;TZID=Europe/Amsterdam:20231111T100000
DTEND;TZID=Europe/Amsterdam:20231111T120000
DTSTAMP:20260425T151024
CREATED:20231002T132945Z
LAST-MODIFIED:20231002T132945Z
UID:2775-1699696800-1699704000@scoutinghubertus.nl
SUMMARY:Opkomst Welpen
DESCRIPTION:
URL:https://scoutinghubertus.nl/event/opkomst-welpen-8/
LOCATION:’t Stift\, Hammolenweg 7\, Kerkrade\, 6466 XT\, Nederland
CATEGORIES:Welpen Opkomsten
END:VEVENT
BEGIN:VEVENT
DTSTART;TZID=Europe/Amsterdam:20231111T190000
DTEND;TZID=Europe/Amsterdam:20231111T210000
DTSTAMP:20260425T151024
CREATED:20231002T133000Z
LAST-MODIFIED:20231002T133000Z
UID:2776-1699729200-1699736400@scoutinghubertus.nl
SUMMARY:Opkomst Scouts
DESCRIPTION:
URL:https://scoutinghubertus.nl/event/opkomst-scouts-8/
LOCATION:’t Stift\, Hammolenweg 7\, Kerkrade\, 6466 XT\, Nederland
CATEGORIES:Scouts Opkomsten
END:VEVENT
BEGIN:VEVENT
DTSTART;TZID=Europe/Amsterdam:20231111T210000
DTEND;TZID=Europe/Amsterdam:20231111T230000
DTSTAMP:20260425T151024
CREATED:20231002T133000Z
LAST-MODIFIED:20231002T133000Z
UID:2777-1699736400-1699743600@scoutinghubertus.nl
SUMMARY:Opkomst Explorers
DESCRIPTION:
URL:https://scoutinghubertus.nl/event/opkomst-explorers-24/
LOCATION:’t Stift\, Hammolenweg 7\, Kerkrade\, 6466 XT\, Nederland
CATEGORIES:Explorers Opkomsten
END:VEVENT
BEGIN:VEVENT
DTSTART;TZID=Europe/Amsterdam:20231118T100000
DTEND;TZID=Europe/Amsterdam:20231118T120000
DTSTAMP:20260425T151024
CREATED:20231002T133000Z
LAST-MODIFIED:20231002T133000Z
UID:2778-1700301600-1700308800@scoutinghubertus.nl
SUMMARY:Opkomst Welpen
DESCRIPTION:
URL:https://scoutinghubertus.nl/event/opkomst-welpen-9/
LOCATION:’t Stift\, Hammolenweg 7\, Kerkrade\, 6466 XT\, Nederland
CATEGORIES:Welpen Opkomsten
END:VEVENT
BEGIN:VEVENT
DTSTART;TZID=Europe/Amsterdam:20231118T190000
DTEND;TZID=Europe/Amsterdam:20231118T210000
DTSTAMP:20260425T151024
CREATED:20231002T133000Z
LAST-MODIFIED:20231002T133000Z
UID:2779-1700334000-1700341200@scoutinghubertus.nl
SUMMARY:Opkomst Scouts
DESCRIPTION:
URL:https://scoutinghubertus.nl/event/opkomst-scouts-9/
LOCATION:’t Stift\, Hammolenweg 7\, Kerkrade\, 6466 XT\, Nederland
CATEGORIES:Scouts Opkomsten
END:VEVENT
BEGIN:VEVENT
DTSTART;TZID=Europe/Amsterdam:20231118T210000
DTEND;TZID=Europe/Amsterdam:20231118T230000
DTSTAMP:20260425T151024
CREATED:20231002T133000Z
LAST-MODIFIED:20231002T133000Z
UID:2780-1700341200-1700348400@scoutinghubertus.nl
SUMMARY:Opkomst Explorers
DESCRIPTION:
URL:https://scoutinghubertus.nl/event/opkomst-explorers-25/
LOCATION:’t Stift\, Hammolenweg 7\, Kerkrade\, 6466 XT\, Nederland
CATEGORIES:Explorers Opkomsten
END:VEVENT
BEGIN:VEVENT
DTSTART;TZID=Europe/Amsterdam:20231125T100000
DTEND;TZID=Europe/Amsterdam:20231125T120000
DTSTAMP:20260425T151024
CREATED:20231002T133015Z
LAST-MODIFIED:20231002T133015Z
UID:2781-1700906400-1700913600@scoutinghubertus.nl
SUMMARY:Opkomst Welpen
DESCRIPTION:
URL:https://scoutinghubertus.nl/event/opkomst-welpen-10/
LOCATION:’t Stift\, Hammolenweg 7\, Kerkrade\, 6466 XT\, Nederland
CATEGORIES:Welpen Opkomsten
END:VEVENT
BEGIN:VEVENT
DTSTART;TZID=Europe/Amsterdam:20231125T190000
DTEND;TZID=Europe/Amsterdam:20231125T210000
DTSTAMP:20260425T151024
CREATED:20231002T133015Z
LAST-MODIFIED:20231002T133015Z
UID:2782-1700938800-1700946000@scoutinghubertus.nl
SUMMARY:Opkomst Scouts
DESCRIPTION:
URL:https://scoutinghubertus.nl/event/opkomst-scouts-10/
LOCATION:’t Stift\, Hammolenweg 7\, Kerkrade\, 6466 XT\, Nederland
CATEGORIES:Scouts Opkomsten
END:VEVENT
BEGIN:VEVENT
DTSTART;TZID=Europe/Amsterdam:20231125T210000
DTEND;TZID=Europe/Amsterdam:20231125T230000
DTSTAMP:20260425T151024
CREATED:20231002T133016Z
LAST-MODIFIED:20231002T133016Z
UID:2783-1700946000-1700953200@scoutinghubertus.nl
SUMMARY:Opkomst Explorers
DESCRIPTION:
URL:https://scoutinghubertus.nl/event/opkomst-explorers-26/
LOCATION:’t Stift\, Hammolenweg 7\, Kerkrade\, 6466 XT\, Nederland
CATEGORIES:Explorers Opkomsten
END:VEVENT
BEGIN:VEVENT
DTSTART;TZID=Europe/Amsterdam:20231202T100000
DTEND;TZID=Europe/Amsterdam:20231202T120000
DTSTAMP:20260425T151024
CREATED:20231002T133016Z
LAST-MODIFIED:20231002T133016Z
UID:2784-1701511200-1701518400@scoutinghubertus.nl
SUMMARY:Opkomst Welpen
DESCRIPTION:
URL:https://scoutinghubertus.nl/event/opkomst-welpen-11/
LOCATION:’t Stift\, Hammolenweg 7\, Kerkrade\, 6466 XT\, Nederland
CATEGORIES:Welpen Opkomsten
END:VEVENT
BEGIN:VEVENT
DTSTART;TZID=Europe/Amsterdam:20231202T190000
DTEND;TZID=Europe/Amsterdam:20231202T210000
DTSTAMP:20260425T151024
CREATED:20231002T133016Z
LAST-MODIFIED:20231002T133016Z
UID:2785-1701543600-1701550800@scoutinghubertus.nl
SUMMARY:Opkomst Scouts
DESCRIPTION:
URL:https://scoutinghubertus.nl/event/opkomst-scouts-11/
LOCATION:’t Stift\, Hammolenweg 7\, Kerkrade\, 6466 XT\, Nederland
CATEGORIES:Scouts Opkomsten
END:VEVENT
BEGIN:VEVENT
DTSTART;TZID=Europe/Amsterdam:20231202T210000
DTEND;TZID=Europe/Amsterdam:20231202T230000
DTSTAMP:20260425T151024
CREATED:20231002T133030Z
LAST-MODIFIED:20231002T133030Z
UID:2786-1701550800-1701558000@scoutinghubertus.nl
SUMMARY:Opkomst Explorers
DESCRIPTION:
URL:https://scoutinghubertus.nl/event/opkomst-explorers-27/
LOCATION:’t Stift\, Hammolenweg 7\, Kerkrade\, 6466 XT\, Nederland
CATEGORIES:Explorers Opkomsten
END:VEVENT
BEGIN:VEVENT
DTSTART;TZID=Europe/Amsterdam:20231209T100000
DTEND;TZID=Europe/Amsterdam:20231209T120000
DTSTAMP:20260425T151024
CREATED:20231002T133030Z
LAST-MODIFIED:20231002T133030Z
UID:2787-1702116000-1702123200@scoutinghubertus.nl
SUMMARY:Opkomst Welpen
DESCRIPTION:
URL:https://scoutinghubertus.nl/event/opkomst-welpen-12/
LOCATION:’t Stift\, Hammolenweg 7\, Kerkrade\, 6466 XT\, Nederland
CATEGORIES:Welpen Opkomsten
END:VEVENT
BEGIN:VEVENT
DTSTART;TZID=Europe/Amsterdam:20231209T190000
DTEND;TZID=Europe/Amsterdam:20231209T210000
DTSTAMP:20260425T151024
CREATED:20231002T133030Z
LAST-MODIFIED:20231002T133030Z
UID:2788-1702148400-1702155600@scoutinghubertus.nl
SUMMARY:Opkomst Scouts
DESCRIPTION:
URL:https://scoutinghubertus.nl/event/opkomst-scouts-12/
LOCATION:’t Stift\, Hammolenweg 7\, Kerkrade\, 6466 XT\, Nederland
CATEGORIES:Scouts Opkomsten
END:VEVENT
BEGIN:VEVENT
DTSTART;TZID=Europe/Amsterdam:20231209T210000
DTEND;TZID=Europe/Amsterdam:20231209T230000
DTSTAMP:20260425T151024
CREATED:20231002T133030Z
LAST-MODIFIED:20231002T133030Z
UID:2789-1702155600-1702162800@scoutinghubertus.nl
SUMMARY:Opkomst Explorers
DESCRIPTION:
URL:https://scoutinghubertus.nl/event/opkomst-explorers-28/
LOCATION:’t Stift\, Hammolenweg 7\, Kerkrade\, 6466 XT\, Nederland
CATEGORIES:Explorers Opkomsten
END:VEVENT
BEGIN:VEVENT
DTSTART;TZID=Europe/Amsterdam:20231223T100000
DTEND;TZID=Europe/Amsterdam:20231223T120000
DTSTAMP:20260425T151024
CREATED:20231002T133030Z
LAST-MODIFIED:20231002T133030Z
UID:2790-1703325600-1703332800@scoutinghubertus.nl
SUMMARY:Opkomst Welpen
DESCRIPTION:
URL:https://scoutinghubertus.nl/event/opkomst-welpen-13/
LOCATION:’t Stift\, Hammolenweg 7\, Kerkrade\, 6466 XT\, Nederland
CATEGORIES:Welpen Opkomsten
END:VEVENT
BEGIN:VEVENT
DTSTART;TZID=Europe/Amsterdam:20231223T190000
DTEND;TZID=Europe/Amsterdam:20231223T210000
DTSTAMP:20260425T151024
CREATED:20231002T133045Z
LAST-MODIFIED:20231002T133045Z
UID:2791-1703358000-1703365200@scoutinghubertus.nl
SUMMARY:Opkomst Scouts
DESCRIPTION:
URL:https://scoutinghubertus.nl/event/opkomst-scouts-13/
LOCATION:’t Stift\, Hammolenweg 7\, Kerkrade\, 6466 XT\, Nederland
CATEGORIES:Scouts Opkomsten
END:VEVENT
BEGIN:VEVENT
DTSTART;TZID=Europe/Amsterdam:20231223T210000
DTEND;TZID=Europe/Amsterdam:20231223T230000
DTSTAMP:20260425T151024
CREATED:20231002T133045Z
LAST-MODIFIED:20231002T133045Z
UID:2792-1703365200-1703372400@scoutinghubertus.nl
SUMMARY:Opkomst Explorers
DESCRIPTION:
URL:https://scoutinghubertus.nl/event/opkomst-explorers-29/
LOCATION:’t Stift\, Hammolenweg 7\, Kerkrade\, 6466 XT\, Nederland
CATEGORIES:Explorers Opkomsten
END:VEVENT
BEGIN:VEVENT
DTSTART;TZID=Europe/Amsterdam:20240113T100000
DTEND;TZID=Europe/Amsterdam:20240113T120000
DTSTAMP:20260425T151024
CREATED:20231002T133045Z
LAST-MODIFIED:20231002T133045Z
UID:2793-1705140000-1705147200@scoutinghubertus.nl
SUMMARY:Opkomst Welpen
DESCRIPTION:
URL:https://scoutinghubertus.nl/event/opkomst-welpen-14/
LOCATION:’t Stift\, Hammolenweg 7\, Kerkrade\, 6466 XT\, Nederland
CATEGORIES:Welpen Opkomsten
END:VEVENT
BEGIN:VEVENT
DTSTART;TZID=Europe/Amsterdam:20240113T190000
DTEND;TZID=Europe/Amsterdam:20240113T210000
DTSTAMP:20260425T151024
CREATED:20231002T133045Z
LAST-MODIFIED:20231002T133045Z
UID:2794-1705172400-1705179600@scoutinghubertus.nl
SUMMARY:Opkomst Scouts
DESCRIPTION:
URL:https://scoutinghubertus.nl/event/opkomst-scouts-14/
LOCATION:’t Stift\, Hammolenweg 7\, Kerkrade\, 6466 XT\, Nederland
CATEGORIES:Scouts Opkomsten
END:VEVENT
BEGIN:VEVENT
DTSTART;TZID=Europe/Amsterdam:20240113T210000
DTEND;TZID=Europe/Amsterdam:20240113T230000
DTSTAMP:20260425T151024
CREATED:20231002T133045Z
LAST-MODIFIED:20231002T133045Z
UID:2795-1705179600-1705186800@scoutinghubertus.nl
SUMMARY:Opkomst Explorers
DESCRIPTION:
URL:https://scoutinghubertus.nl/event/opkomst-explorers-30/
LOCATION:’t Stift\, Hammolenweg 7\, Kerkrade\, 6466 XT\, Nederland
CATEGORIES:Explorers Opkomsten
END:VEVENT
END:VCALENDAR