BEGIN:VCALENDAR
VERSION:2.0
PRODID:-//Scouting St. Hubertus Kerkrade-West - ECPv6.15.20//NONSGML v1.0//EN
CALSCALE:GREGORIAN
METHOD:PUBLISH
X-WR-CALNAME:Scouting St. Hubertus Kerkrade-West
X-ORIGINAL-URL:https://scoutinghubertus.nl
X-WR-CALDESC:Evenementen voor Scouting St. Hubertus Kerkrade-West
REFRESH-INTERVAL;VALUE=DURATION:PT1H
X-Robots-Tag:noindex
X-PUBLISHED-TTL:PT1H
BEGIN:VTIMEZONE
TZID:Europe/Amsterdam
BEGIN:DAYLIGHT
TZOFFSETFROM:+0100
TZOFFSETTO:+0200
TZNAME:CEST
DTSTART:20180325T010000
END:DAYLIGHT
BEGIN:STANDARD
TZOFFSETFROM:+0200
TZOFFSETTO:+0100
TZNAME:CET
DTSTART:20181028T010000
END:STANDARD
BEGIN:DAYLIGHT
TZOFFSETFROM:+0100
TZOFFSETTO:+0200
TZNAME:CEST
DTSTART:20190331T010000
END:DAYLIGHT
BEGIN:STANDARD
TZOFFSETFROM:+0200
TZOFFSETTO:+0100
TZNAME:CET
DTSTART:20191027T010000
END:STANDARD
BEGIN:DAYLIGHT
TZOFFSETFROM:+0100
TZOFFSETTO:+0200
TZNAME:CEST
DTSTART:20200329T010000
END:DAYLIGHT
BEGIN:STANDARD
TZOFFSETFROM:+0200
TZOFFSETTO:+0100
TZNAME:CET
DTSTART:20201025T010000
END:STANDARD
END:VTIMEZONE
BEGIN:VEVENT
DTSTART;TZID=Europe/Amsterdam:20191213T200000
DTEND;TZID=Europe/Amsterdam:20191213T220000
DTSTAMP:20260426T023147
CREATED:20191103T092656Z
LAST-MODIFIED:20191103T092656Z
UID:2544-1576267200-1576274400@scoutinghubertus.nl
SUMMARY:Opkomst Explorers
DESCRIPTION:
URL:https://scoutinghubertus.nl/event/opkomst-explorers-10/
LOCATION:’t Stift\, Hammolenweg 7\, Kerkrade\, 6466 XT\, Nederland
CATEGORIES:Explorer Opkomsten
END:VEVENT
BEGIN:VEVENT
DTSTART;TZID=Europe/Amsterdam:20191207T190000
DTEND;TZID=Europe/Amsterdam:20191207T210000
DTSTAMP:20260426T023147
CREATED:20191103T093035Z
LAST-MODIFIED:20191103T093035Z
UID:2552-1575745200-1575752400@scoutinghubertus.nl
SUMMARY:Opkomst Scouts
DESCRIPTION:
URL:https://scoutinghubertus.nl/event/opkomst-scouts-53/
LOCATION:’t Stift\, Hammolenweg 7\, Kerkrade\, 6466 XT\, Nederland
CATEGORIES:Scouts Opkomsten
END:VEVENT
BEGIN:VEVENT
DTSTART;TZID=Europe/Amsterdam:20191207T123000
DTEND;TZID=Europe/Amsterdam:20191207T150000
DTSTAMP:20260426T023147
CREATED:20191103T093442Z
LAST-MODIFIED:20191103T093442Z
UID:2560-1575721800-1575730800@scoutinghubertus.nl
SUMMARY:Opkomst Welpen
DESCRIPTION:
URL:https://scoutinghubertus.nl/event/opkomst-welpen-33/
LOCATION:’t Stift\, Hammolenweg 7\, Kerkrade\, 6466 XT\, Nederland
CATEGORIES:Welpen Opkomsten
END:VEVENT
BEGIN:VEVENT
DTSTART;TZID=Europe/Amsterdam:20191206T200000
DTEND;TZID=Europe/Amsterdam:20191206T220000
DTSTAMP:20260426T023147
CREATED:20191103T092624Z
LAST-MODIFIED:20191103T092624Z
UID:2542-1575662400-1575669600@scoutinghubertus.nl
SUMMARY:Opkomst Explorers
DESCRIPTION:
URL:https://scoutinghubertus.nl/event/opkomst-explorers-9/
LOCATION:’t Stift\, Hammolenweg 7\, Kerkrade\, 6466 XT\, Nederland
CATEGORIES:Explorer Opkomsten
END:VEVENT
BEGIN:VEVENT
DTSTART;TZID=Europe/Amsterdam:20191130T190000
DTEND;TZID=Europe/Amsterdam:20191130T210000
DTSTAMP:20260426T023147
CREATED:20191103T092958Z
LAST-MODIFIED:20191103T092958Z
UID:2550-1575140400-1575147600@scoutinghubertus.nl
SUMMARY:Opkomst Scouts
DESCRIPTION:
URL:https://scoutinghubertus.nl/event/opkomst-scouts-52/
LOCATION:’t Stift\, Hammolenweg 7\, Kerkrade\, 6466 XT\, Nederland
CATEGORIES:Scouts Opkomsten
END:VEVENT
BEGIN:VEVENT
DTSTART;TZID=Europe/Amsterdam:20191129T200000
DTEND;TZID=Europe/Amsterdam:20191129T220000
DTSTAMP:20260426T023147
CREATED:20191103T092548Z
LAST-MODIFIED:20191103T092548Z
UID:2540-1575057600-1575064800@scoutinghubertus.nl
SUMMARY:Opkomst Explorers
DESCRIPTION:
URL:https://scoutinghubertus.nl/event/opkomst-explorers-8/
LOCATION:’t Stift\, Hammolenweg 7\, Kerkrade\, 6466 XT\, Nederland
CATEGORIES:Explorer Opkomsten
END:VEVENT
BEGIN:VEVENT
DTSTART;TZID=Europe/Amsterdam:20191123T190000
DTEND;TZID=Europe/Amsterdam:20191123T210000
DTSTAMP:20260426T023147
CREATED:20191103T092821Z
LAST-MODIFIED:20191103T092821Z
UID:2548-1574535600-1574542800@scoutinghubertus.nl
SUMMARY:Opkomst Scouts
DESCRIPTION:
URL:https://scoutinghubertus.nl/event/opkomst-scouts-51/
LOCATION:’t Stift\, Hammolenweg 7\, Kerkrade\, 6466 XT\, Nederland
CATEGORIES:Scouts Opkomsten
END:VEVENT
BEGIN:VEVENT
DTSTART;TZID=Europe/Amsterdam:20191123T123000
DTEND;TZID=Europe/Amsterdam:20191123T150000
DTSTAMP:20260426T023147
CREATED:20191103T093401Z
LAST-MODIFIED:20191103T093401Z
UID:2558-1574512200-1574521200@scoutinghubertus.nl
SUMMARY:Opkomst Welpen
DESCRIPTION:
URL:https://scoutinghubertus.nl/event/opkomst-welpen-32/
LOCATION:’t Stift\, Hammolenweg 7\, Kerkrade\, 6466 XT\, Nederland
CATEGORIES:Welpen Opkomsten
END:VEVENT
BEGIN:VEVENT
DTSTART;TZID=Europe/Amsterdam:20191122T200000
DTEND;TZID=Europe/Amsterdam:20191122T220000
DTSTAMP:20260426T023147
CREATED:20191103T092520Z
LAST-MODIFIED:20191103T092520Z
UID:2538-1574452800-1574460000@scoutinghubertus.nl
SUMMARY:Opkomst Explorers
DESCRIPTION:
URL:https://scoutinghubertus.nl/event/opkomst-explorers-7/
LOCATION:’t Stift\, Hammolenweg 7\, Kerkrade\, 6466 XT\, Nederland
CATEGORIES:Explorer Opkomsten
END:VEVENT
BEGIN:VEVENT
DTSTART;TZID=Europe/Amsterdam:20191116T190000
DTEND;TZID=Europe/Amsterdam:20191116T210000
DTSTAMP:20260426T023147
CREATED:20191103T092755Z
LAST-MODIFIED:20191103T092755Z
UID:2546-1573930800-1573938000@scoutinghubertus.nl
SUMMARY:Opkomst Scouts
DESCRIPTION:
URL:https://scoutinghubertus.nl/event/opkomst-scouts-50/
LOCATION:’t Stift\, Hammolenweg 7\, Kerkrade\, 6466 XT\, Nederland
CATEGORIES:Scouts Opkomsten
END:VEVENT
BEGIN:VEVENT
DTSTART;TZID=Europe/Amsterdam:20191115T200000
DTEND;TZID=Europe/Amsterdam:20191115T220000
DTSTAMP:20260426T023147
CREATED:20191103T092446Z
LAST-MODIFIED:20191103T092446Z
UID:2536-1573848000-1573855200@scoutinghubertus.nl
SUMMARY:Opkomst Explorers
DESCRIPTION:
URL:https://scoutinghubertus.nl/event/opkomst-explorers-6/
LOCATION:’t Stift\, Hammolenweg 7\, Kerkrade\, 6466 XT\, Nederland
CATEGORIES:Explorer Opkomsten
END:VEVENT
BEGIN:VEVENT
DTSTART;TZID=Europe/Amsterdam:20191109T131500
DTEND;TZID=Europe/Amsterdam:20191109T170000
DTSTAMP:20260426T023147
CREATED:20191103T084156Z
LAST-MODIFIED:20191103T084156Z
UID:2530-1573305300-1573318800@scoutinghubertus.nl
SUMMARY:Jubileumactiviteit Welpen\, Scouts en Explorers
DESCRIPTION:Dit jaar bestaat Scouting St. Hubertus Kerkrade-West 75 jaar. En dat willen wij met jou vieren! \nOp 9 november 2019 wordt daarom een jubileum activiteit gehouden voor al onze jeugdleden. \nWij verzamelen om 13.15 uur bij de parkeerplaats van de Leisure Dome in Kerkrade (Roda J.C. Ring 2\, bij het Parkstad Limburg Stadion). Hier staat voor alle Welpen\, Scouts én Explorers een gevarieerd programma gepland. Om 17 uur word je dan weer bij Leisure Dome opgehaald. \nBereid je alvast voor op een actieve\, sportieve en vooral leuke middag\, want er staat van alles gepland!
URL:https://scoutinghubertus.nl/event/jubileumactiviteit-welpen-scouts-en-explorers/
CATEGORIES:Explorer Opkomsten,Scouts Opkomsten,Speciale Evementen,Welpen Opkomsten
END:VEVENT
BEGIN:VEVENT
DTSTART;TZID=Europe/Amsterdam:20191102T190000
DTEND;TZID=Europe/Amsterdam:20191103T210000
DTSTAMP:20260426T023147
CREATED:20191103T084345Z
LAST-MODIFIED:20191103T084345Z
UID:2532-1572721200-1572814800@scoutinghubertus.nl
SUMMARY:Opkomst Scouts
DESCRIPTION:
URL:https://scoutinghubertus.nl/event/opkomst-scouts-48/
LOCATION:’t Stift\, Hammolenweg 7\, Kerkrade\, 6466 XT\, Nederland
CATEGORIES:Scouts Opkomsten
END:VEVENT
BEGIN:VEVENT
DTSTART;TZID=Europe/Amsterdam:20191101T200000
DTEND;TZID=Europe/Amsterdam:20191101T220000
DTSTAMP:20260426T023147
CREATED:20191103T083742Z
LAST-MODIFIED:20191103T083742Z
UID:2528-1572638400-1572645600@scoutinghubertus.nl
SUMMARY:Opkomst Explorers
DESCRIPTION:
URL:https://scoutinghubertus.nl/event/opkomst-explorers-5/
LOCATION:’t Stift\, Hammolenweg 7\, Kerkrade\, 6466 XT\, Nederland
CATEGORIES:Explorer Opkomsten
END:VEVENT
BEGIN:VEVENT
DTSTART;TZID=Europe/Amsterdam:20191026T190000
DTEND;TZID=Europe/Amsterdam:20191026T210000
DTSTAMP:20260426T023147
CREATED:20191103T085625Z
LAST-MODIFIED:20191103T085625Z
UID:2534-1572116400-1572123600@scoutinghubertus.nl
SUMMARY:Opkomst Scouts
DESCRIPTION:
URL:https://scoutinghubertus.nl/event/opkomst-scouts-49/
LOCATION:’t Stift\, Hammolenweg 7\, Kerkrade\, 6466 XT\, Nederland
CATEGORIES:Scouts Opkomsten
END:VEVENT
BEGIN:VEVENT
DTSTART;TZID=Europe/Amsterdam:20191026T123000
DTEND;TZID=Europe/Amsterdam:20191026T150000
DTSTAMP:20260426T023147
CREATED:20191103T093318Z
LAST-MODIFIED:20191103T093318Z
UID:2556-1572093000-1572102000@scoutinghubertus.nl
SUMMARY:Opkomst Welpen
DESCRIPTION:
URL:https://scoutinghubertus.nl/event/opkomst-welpen-31/
LOCATION:’t Stift\, Hammolenweg 7\, Kerkrade\, 6466 XT\, Nederland
CATEGORIES:Welpen Opkomsten
END:VEVENT
BEGIN:VEVENT
DTSTART;TZID=Europe/Amsterdam:20191025T200000
DTEND;TZID=Europe/Amsterdam:20191025T220000
DTSTAMP:20260426T023147
CREATED:20191103T083703Z
LAST-MODIFIED:20191103T083703Z
UID:2526-1572033600-1572040800@scoutinghubertus.nl
SUMMARY:Opkomst Explorers
DESCRIPTION:
URL:https://scoutinghubertus.nl/event/opkomst-explorers-4/
LOCATION:’t Stift\, Hammolenweg 7\, Kerkrade\, 6466 XT\, Nederland
CATEGORIES:Explorer Opkomsten
END:VEVENT
BEGIN:VEVENT
DTSTART;TZID=Europe/Amsterdam:20191019T110000
DTEND;TZID=Europe/Amsterdam:20191019T170000
DTSTAMP:20260426T023147
CREATED:20191103T083339Z
LAST-MODIFIED:20191103T083339Z
UID:2522-1571482800-1571504400@scoutinghubertus.nl
SUMMARY:Groepsactiviteit JOTA; Welpen\, Scouts en Explorers
DESCRIPTION:
URL:https://scoutinghubertus.nl/event/groepsactiviteit-jota-welpen-scouts-en-explorers/
CATEGORIES:Explorer Opkomsten,Scouts Opkomsten,Speciale Evementen,Welpen Opkomsten
END:VEVENT
BEGIN:VEVENT
DTSTART;TZID=Europe/Amsterdam:20191018T190000
DTEND;TZID=Europe/Amsterdam:20191019T110000
DTSTAMP:20260426T023147
CREATED:20191103T083449Z
LAST-MODIFIED:20191103T085514Z
UID:2524-1571425200-1571482800@scoutinghubertus.nl
SUMMARY:Groepsactiviteit JOTA; Explorers
DESCRIPTION:
URL:https://scoutinghubertus.nl/event/groepsactiviteit-jota-explorers/
CATEGORIES:Explorer Opkomsten
END:VEVENT
BEGIN:VEVENT
DTSTART;TZID=Europe/Amsterdam:20191012T190000
DTEND;TZID=Europe/Amsterdam:20191012T210000
DTSTAMP:20260426T023147
CREATED:20191008T232152Z
LAST-MODIFIED:20191103T082754Z
UID:2519-1570906800-1570914000@scoutinghubertus.nl
SUMMARY:Opkomst Scouts
DESCRIPTION:
URL:https://scoutinghubertus.nl/event/opkomst-scouts-47/
LOCATION:’t Stift\, Hammolenweg 7\, Kerkrade\, 6466 XT\, Nederland
CATEGORIES:Scouts Opkomsten
END:VEVENT
BEGIN:VEVENT
DTSTART;TZID=Europe/Amsterdam:20191011T200000
DTEND;TZID=Europe/Amsterdam:20191011T220000
DTSTAMP:20260426T023147
CREATED:20191008T232055Z
LAST-MODIFIED:20191008T232055Z
UID:2517-1570824000-1570831200@scoutinghubertus.nl
SUMMARY:Opkomst Explorers
DESCRIPTION:
URL:https://scoutinghubertus.nl/event/opkomst-explorers-3/
LOCATION:’t Stift\, Hammolenweg 7\, Kerkrade\, 6466 XT\, Nederland
CATEGORIES:Explorer Opkomsten
END:VEVENT
BEGIN:VEVENT
DTSTART;TZID=Europe/Amsterdam:20191005T190000
DTEND;TZID=Europe/Amsterdam:20191005T210000
DTSTAMP:20260426T023147
CREATED:20190919T063959Z
LAST-MODIFIED:20190919T064114Z
UID:2487-1570302000-1570309200@scoutinghubertus.nl
SUMMARY:Opkomst Scouts
DESCRIPTION:
URL:https://scoutinghubertus.nl/event/opkomst-scouts-46/
LOCATION:’t Stift\, Hammolenweg 7\, Kerkrade\, 6466 XT\, Nederland
CATEGORIES:Scouts Opkomsten
END:VEVENT
BEGIN:VEVENT
DTSTART;TZID=Europe/Amsterdam:20191005T123000
DTEND;TZID=Europe/Amsterdam:20191005T150000
DTSTAMP:20260426T023147
CREATED:20190919T064400Z
LAST-MODIFIED:20190919T064400Z
UID:2492-1570278600-1570287600@scoutinghubertus.nl
SUMMARY:Opkomst Welpen
DESCRIPTION:
URL:https://scoutinghubertus.nl/event/opkomst-welpen-30/
LOCATION:’t Stift\, Hammolenweg 7\, Kerkrade\, 6466 XT\, Nederland
CATEGORIES:Welpen Opkomsten
END:VEVENT
BEGIN:VEVENT
DTSTART;TZID=Europe/Amsterdam:20191004T200000
DTEND;TZID=Europe/Amsterdam:20191004T220000
DTSTAMP:20260426T023147
CREATED:20190919T064550Z
LAST-MODIFIED:20190919T064550Z
UID:2497-1570219200-1570226400@scoutinghubertus.nl
SUMMARY:Opkomst Explorers
DESCRIPTION:
URL:https://scoutinghubertus.nl/event/opkomst-explorers-2/
LOCATION:’t Stift\, Hammolenweg 7\, Kerkrade\, 6466 XT\, Nederland
CATEGORIES:Welpen Opkomsten
END:VEVENT
BEGIN:VEVENT
DTSTART;TZID=Europe/Amsterdam:20190928T190000
DTEND;TZID=Europe/Amsterdam:20190928T210000
DTSTAMP:20260426T023147
CREATED:20190919T063922Z
LAST-MODIFIED:20190919T064107Z
UID:2485-1569697200-1569704400@scoutinghubertus.nl
SUMMARY:Opkomst Scouts
DESCRIPTION:
URL:https://scoutinghubertus.nl/event/opkomst-scouts-45/
LOCATION:’t Stift\, Hammolenweg 7\, Kerkrade\, 6466 XT\, Nederland
CATEGORIES:Scouts Opkomsten
END:VEVENT
BEGIN:VEVENT
DTSTART;TZID=Europe/Amsterdam:20190921T190000
DTEND;TZID=Europe/Amsterdam:20190921T210000
DTSTAMP:20260426T023147
CREATED:20190919T063720Z
LAST-MODIFIED:20190919T064059Z
UID:2481-1569092400-1569099600@scoutinghubertus.nl
SUMMARY:Opkomst Scouts
DESCRIPTION:
URL:https://scoutinghubertus.nl/event/opkomst-scouts-43/
LOCATION:’t Stift\, Hammolenweg 7\, Kerkrade\, 6466 XT\, Nederland
CATEGORIES:Scouts Opkomsten
END:VEVENT
BEGIN:VEVENT
DTSTART;TZID=Europe/Amsterdam:20190921T123000
DTEND;TZID=Europe/Amsterdam:20190921T150000
DTSTAMP:20260426T023147
CREATED:20190919T064316Z
LAST-MODIFIED:20190919T064316Z
UID:2489-1569069000-1569078000@scoutinghubertus.nl
SUMMARY:Opkomst Welpen
DESCRIPTION:
URL:https://scoutinghubertus.nl/event/opkomst-welpen-29/
LOCATION:’t Stift\, Hammolenweg 7\, Kerkrade\, 6466 XT\, Nederland
CATEGORIES:Welpen Opkomsten
END:VEVENT
BEGIN:VEVENT
DTSTART;TZID=Europe/Amsterdam:20190920T200000
DTEND;TZID=Europe/Amsterdam:20190920T220000
DTSTAMP:20260426T023147
CREATED:20190919T064506Z
LAST-MODIFIED:20190919T064506Z
UID:2494-1569009600-1569016800@scoutinghubertus.nl
SUMMARY:Opkomst Explorers
DESCRIPTION:
URL:https://scoutinghubertus.nl/event/opkomst-explorers/
LOCATION:’t Stift\, Hammolenweg 7\, Kerkrade\, 6466 XT\, Nederland
CATEGORIES:Explorer Opkomsten
END:VEVENT
BEGIN:VEVENT
DTSTART;TZID=Europe/Amsterdam:20190914T190000
DTEND;TZID=Europe/Amsterdam:20190914T210000
DTSTAMP:20260426T023147
CREATED:20190919T063642Z
LAST-MODIFIED:20190919T064052Z
UID:2478-1568487600-1568494800@scoutinghubertus.nl
SUMMARY:Opkomst Scouts
DESCRIPTION:
URL:https://scoutinghubertus.nl/event/opkomst-scouts-42/
LOCATION:’t Stift\, Hammolenweg 7\, Kerkrade\, 6466 XT\, Nederland
CATEGORIES:Scouts Opkomsten
END:VEVENT
BEGIN:VEVENT
DTSTART;TZID=Europe/Amsterdam:20190907T150000
DTEND;TZID=Europe/Amsterdam:20190907T170000
DTSTAMP:20260426T023147
CREATED:20190919T063449Z
LAST-MODIFIED:20190919T064131Z
UID:2475-1567868400-1567875600@scoutinghubertus.nl
SUMMARY:Opening seizoen en overvliegen
DESCRIPTION:
URL:https://scoutinghubertus.nl/event/opening-seizoen-en-overvliegen/
LOCATION:’t Stift\, Hammolenweg 7\, Kerkrade\, 6466 XT\, Nederland
CATEGORIES:Scouts Opkomsten,Speciale Evementen,Welpen Opkomsten
END:VEVENT
END:VCALENDAR