BEGIN:VCALENDAR
VERSION:2.0
PRODID:-//Scouting St. Hubertus Kerkrade-West - ECPv6.15.20//NONSGML v1.0//EN
CALSCALE:GREGORIAN
METHOD:PUBLISH
X-WR-CALNAME:Scouting St. Hubertus Kerkrade-West
X-ORIGINAL-URL:https://scoutinghubertus.nl
X-WR-CALDESC:Evenementen voor Scouting St. Hubertus Kerkrade-West
REFRESH-INTERVAL;VALUE=DURATION:PT1H
X-Robots-Tag:noindex
X-PUBLISHED-TTL:PT1H
BEGIN:VTIMEZONE
TZID:Europe/Amsterdam
BEGIN:DAYLIGHT
TZOFFSETFROM:+0100
TZOFFSETTO:+0200
TZNAME:CEST
DTSTART:20190331T010000
END:DAYLIGHT
BEGIN:STANDARD
TZOFFSETFROM:+0200
TZOFFSETTO:+0100
TZNAME:CET
DTSTART:20191027T010000
END:STANDARD
BEGIN:DAYLIGHT
TZOFFSETFROM:+0100
TZOFFSETTO:+0200
TZNAME:CEST
DTSTART:20200329T010000
END:DAYLIGHT
BEGIN:STANDARD
TZOFFSETFROM:+0200
TZOFFSETTO:+0100
TZNAME:CET
DTSTART:20201025T010000
END:STANDARD
BEGIN:DAYLIGHT
TZOFFSETFROM:+0100
TZOFFSETTO:+0200
TZNAME:CEST
DTSTART:20210328T010000
END:DAYLIGHT
BEGIN:STANDARD
TZOFFSETFROM:+0200
TZOFFSETTO:+0100
TZNAME:CET
DTSTART:20211031T010000
END:STANDARD
END:VTIMEZONE
BEGIN:VEVENT
DTSTART;TZID=Europe/Amsterdam:20201128T190000
DTEND;TZID=Europe/Amsterdam:20201128T210000
DTSTAMP:20260425T184808
CREATED:20201010T125756Z
LAST-MODIFIED:20201010T125756Z
UID:2675-1606590000-1606597200@scoutinghubertus.nl
SUMMARY:Opkomst Scouts
DESCRIPTION:
URL:https://scoutinghubertus.nl/event/opkomst-scouts-69/
LOCATION:’t Stift\, Hammolenweg 7\, Kerkrade\, 6466 XT\, Nederland
CATEGORIES:Scouts Opkomsten
END:VEVENT
BEGIN:VEVENT
DTSTART;TZID=Europe/Amsterdam:20201128T130000
DTEND;TZID=Europe/Amsterdam:20201128T150000
DTSTAMP:20260425T184808
CREATED:20201010T123707Z
LAST-MODIFIED:20201010T123707Z
UID:2653-1606568400-1606575600@scoutinghubertus.nl
SUMMARY:Opkomst Welpen
DESCRIPTION:
URL:https://scoutinghubertus.nl/event/opkomst-welpen-48/
LOCATION:’t Stift\, Hammolenweg 7\, Kerkrade\, 6466 XT\, Nederland
CATEGORIES:Welpen Opkomsten
END:VEVENT
BEGIN:VEVENT
DTSTART;TZID=Europe/Amsterdam:20201121T190000
DTEND;TZID=Europe/Amsterdam:20201121T210000
DTSTAMP:20260425T184808
CREATED:20201010T125712Z
LAST-MODIFIED:20201010T125712Z
UID:2673-1605985200-1605992400@scoutinghubertus.nl
SUMMARY:Opkomst Scouts
DESCRIPTION:
URL:https://scoutinghubertus.nl/event/opkomst-scouts-68/
LOCATION:’t Stift\, Hammolenweg 7\, Kerkrade\, 6466 XT\, Nederland
CATEGORIES:Scouts Opkomsten
END:VEVENT
BEGIN:VEVENT
DTSTART;TZID=Europe/Amsterdam:20201121T130000
DTEND;TZID=Europe/Amsterdam:20201121T150000
DTSTAMP:20260425T184808
CREATED:20201010T123618Z
LAST-MODIFIED:20201010T123618Z
UID:2651-1605963600-1605970800@scoutinghubertus.nl
SUMMARY:Opkomst Welpen
DESCRIPTION:
URL:https://scoutinghubertus.nl/event/opkomst-welpen-47/
LOCATION:’t Stift\, Hammolenweg 7\, Kerkrade\, 6466 XT\, Nederland
CATEGORIES:Welpen Opkomsten
END:VEVENT
BEGIN:VEVENT
DTSTART;TZID=Europe/Amsterdam:20201114T190000
DTEND;TZID=Europe/Amsterdam:20201114T210000
DTSTAMP:20260425T184808
CREATED:20201010T125449Z
LAST-MODIFIED:20201010T125449Z
UID:2671-1605380400-1605387600@scoutinghubertus.nl
SUMMARY:Opkomst Scouts
DESCRIPTION:
URL:https://scoutinghubertus.nl/event/opkomst-scouts-67/
LOCATION:’t Stift\, Hammolenweg 7\, Kerkrade\, 6466 XT\, Nederland
CATEGORIES:Scouts Opkomsten
END:VEVENT
BEGIN:VEVENT
DTSTART;TZID=Europe/Amsterdam:20201114T130000
DTEND;TZID=Europe/Amsterdam:20201114T150000
DTSTAMP:20260425T184808
CREATED:20201010T123549Z
LAST-MODIFIED:20201010T123549Z
UID:2649-1605358800-1605366000@scoutinghubertus.nl
SUMMARY:Opkomst Welpen
DESCRIPTION:
URL:https://scoutinghubertus.nl/event/opkomst-welpen-46/
LOCATION:’t Stift\, Hammolenweg 7\, Kerkrade\, 6466 XT\, Nederland
CATEGORIES:Welpen Opkomsten
END:VEVENT
BEGIN:VEVENT
DTSTART;TZID=Europe/Amsterdam:20201107T190000
DTEND;TZID=Europe/Amsterdam:20201107T210000
DTSTAMP:20260425T184808
CREATED:20201010T125408Z
LAST-MODIFIED:20201010T125408Z
UID:2669-1604775600-1604782800@scoutinghubertus.nl
SUMMARY:Opkomst Scouts
DESCRIPTION:
URL:https://scoutinghubertus.nl/event/opkomst-scouts-66/
LOCATION:’t Stift\, Hammolenweg 7\, Kerkrade\, 6466 XT\, Nederland
CATEGORIES:Scouts Opkomsten
END:VEVENT
BEGIN:VEVENT
DTSTART;TZID=Europe/Amsterdam:20201107T130000
DTEND;TZID=Europe/Amsterdam:20201107T150000
DTSTAMP:20260425T184808
CREATED:20201010T123503Z
LAST-MODIFIED:20201010T123503Z
UID:2647-1604754000-1604761200@scoutinghubertus.nl
SUMMARY:Opkomst Welpen
DESCRIPTION:
URL:https://scoutinghubertus.nl/event/opkomst-welpen-45/
LOCATION:’t Stift\, Hammolenweg 7\, Kerkrade\, 6466 XT\, Nederland
CATEGORIES:Welpen Opkomsten
END:VEVENT
BEGIN:VEVENT
DTSTART;TZID=Europe/Amsterdam:20201031T190000
DTEND;TZID=Europe/Amsterdam:20201031T210000
DTSTAMP:20260425T184808
CREATED:20201010T125302Z
LAST-MODIFIED:20201010T125302Z
UID:2667-1604170800-1604178000@scoutinghubertus.nl
SUMMARY:Opkomst Scouts
DESCRIPTION:
URL:https://scoutinghubertus.nl/event/opkomst-scouts-65/
LOCATION:’t Stift\, Hammolenweg 7\, Kerkrade\, 6466 XT\, Nederland
CATEGORIES:Scouts Opkomsten
END:VEVENT
BEGIN:VEVENT
DTSTART;TZID=Europe/Amsterdam:20201031T130000
DTEND;TZID=Europe/Amsterdam:20201031T150000
DTSTAMP:20260425T184808
CREATED:20201010T123429Z
LAST-MODIFIED:20201010T123429Z
UID:2645-1604149200-1604156400@scoutinghubertus.nl
SUMMARY:Opkomst Welpen
DESCRIPTION:
URL:https://scoutinghubertus.nl/event/opkomst-welpen-44/
LOCATION:’t Stift\, Hammolenweg 7\, Kerkrade\, 6466 XT\, Nederland
CATEGORIES:Welpen Opkomsten
END:VEVENT
BEGIN:VEVENT
DTSTART;TZID=Europe/Amsterdam:20201010T190000
DTEND;TZID=Europe/Amsterdam:20201010T210000
DTSTAMP:20260425T184808
CREATED:20201010T125129Z
LAST-MODIFIED:20201010T125129Z
UID:2664-1602356400-1602363600@scoutinghubertus.nl
SUMMARY:Opkomst Scouts
DESCRIPTION:
URL:https://scoutinghubertus.nl/event/opkomst-scouts-64/
LOCATION:’t Stift\, Hammolenweg 7\, Kerkrade\, 6466 XT\, Nederland
CATEGORIES:Scouts Opkomsten
END:VEVENT
BEGIN:VEVENT
DTSTART;TZID=Europe/Amsterdam:20201010T130000
DTEND;TZID=Europe/Amsterdam:20201010T150000
DTSTAMP:20260425T184808
CREATED:20201010T123216Z
LAST-MODIFIED:20201010T123216Z
UID:2643-1602334800-1602342000@scoutinghubertus.nl
SUMMARY:Opkomst Welpen
DESCRIPTION:
URL:https://scoutinghubertus.nl/event/opkomst-welpen-43/
LOCATION:’t Stift\, Hammolenweg 7\, Kerkrade\, 6466 XT\, Nederland
CATEGORIES:Welpen Opkomsten
END:VEVENT
BEGIN:VEVENT
DTSTART;TZID=Europe/Amsterdam:20201003T190000
DTEND;TZID=Europe/Amsterdam:20201003T210000
DTSTAMP:20260425T184808
CREATED:20201010T125100Z
LAST-MODIFIED:20201010T125100Z
UID:2662-1601751600-1601758800@scoutinghubertus.nl
SUMMARY:Opkomst Scouts
DESCRIPTION:
URL:https://scoutinghubertus.nl/event/opkomst-scouts-63/
LOCATION:’t Stift\, Hammolenweg 7\, Kerkrade\, 6466 XT\, Nederland
CATEGORIES:Scouts Opkomsten
END:VEVENT
BEGIN:VEVENT
DTSTART;TZID=Europe/Amsterdam:20201003T130000
DTEND;TZID=Europe/Amsterdam:20201003T150000
DTSTAMP:20260425T184808
CREATED:20201010T123145Z
LAST-MODIFIED:20201010T123145Z
UID:2641-1601730000-1601737200@scoutinghubertus.nl
SUMMARY:Opkomst Welpen
DESCRIPTION:
URL:https://scoutinghubertus.nl/event/opkomst-welpen-42/
LOCATION:’t Stift\, Hammolenweg 7\, Kerkrade\, 6466 XT\, Nederland
CATEGORIES:Welpen Opkomsten
END:VEVENT
BEGIN:VEVENT
DTSTART;TZID=Europe/Amsterdam:20200926T190000
DTEND;TZID=Europe/Amsterdam:20200926T210000
DTSTAMP:20260425T184808
CREATED:20200823T142103Z
LAST-MODIFIED:20200823T142103Z
UID:2626-1601146800-1601154000@scoutinghubertus.nl
SUMMARY:Opkomst Scouts
DESCRIPTION:
URL:https://scoutinghubertus.nl/event/opkomst-scouts-62/
LOCATION:’t Stift\, Hammolenweg 7\, Kerkrade\, 6466 XT\, Nederland
CATEGORIES:Scouts Opkomsten
END:VEVENT
BEGIN:VEVENT
DTSTART;TZID=Europe/Amsterdam:20200926T130000
DTEND;TZID=Europe/Amsterdam:20200926T150000
DTSTAMP:20260425T184808
CREATED:20200823T141931Z
LAST-MODIFIED:20200823T141931Z
UID:2622-1601125200-1601132400@scoutinghubertus.nl
SUMMARY:Opkomst Welpen
DESCRIPTION:
URL:https://scoutinghubertus.nl/event/opkomst-welpen-41/
LOCATION:’t Stift\, Hammolenweg 7\, Kerkrade\, 6466 XT\, Nederland
CATEGORIES:Welpen Opkomsten
END:VEVENT
BEGIN:VEVENT
DTSTART;TZID=Europe/Amsterdam:20200919T190000
DTEND;TZID=Europe/Amsterdam:20200919T210000
DTSTAMP:20260425T184808
CREATED:20200823T142016Z
LAST-MODIFIED:20200823T142016Z
UID:2624-1600542000-1600549200@scoutinghubertus.nl
SUMMARY:Opkomst Scouts
DESCRIPTION:
URL:https://scoutinghubertus.nl/event/opkomst-scouts-61/
LOCATION:’t Stift\, Hammolenweg 7\, Kerkrade\, 6466 XT\, Nederland
CATEGORIES:Scouts Opkomsten
END:VEVENT
BEGIN:VEVENT
DTSTART;TZID=Europe/Amsterdam:20200919T130000
DTEND;TZID=Europe/Amsterdam:20200919T150000
DTSTAMP:20260425T184808
CREATED:20200823T141849Z
LAST-MODIFIED:20200823T141849Z
UID:2620-1600520400-1600527600@scoutinghubertus.nl
SUMMARY:Opkomst Welpen
DESCRIPTION:
URL:https://scoutinghubertus.nl/event/opkomst-welpen-40/
LOCATION:’t Stift\, Hammolenweg 7\, Kerkrade\, 6466 XT\, Nederland
CATEGORIES:Welpen Opkomsten
END:VEVENT
BEGIN:VEVENT
DTSTART;TZID=Europe/Amsterdam:20200912T190000
DTEND;TZID=Europe/Amsterdam:20200912T210000
DTSTAMP:20260425T184808
CREATED:20200823T141615Z
LAST-MODIFIED:20200823T141615Z
UID:2616-1599937200-1599944400@scoutinghubertus.nl
SUMMARY:Opkomst Scouts
DESCRIPTION:
URL:https://scoutinghubertus.nl/event/opkomst-scouts-60/
LOCATION:’t Stift\, Hammolenweg 7\, Kerkrade\, 6466 XT\, Nederland
CATEGORIES:Scouts Opkomsten
END:VEVENT
BEGIN:VEVENT
DTSTART;TZID=Europe/Amsterdam:20200912T130000
DTEND;TZID=Europe/Amsterdam:20200912T150000
DTSTAMP:20260425T184808
CREATED:20200823T141407Z
LAST-MODIFIED:20200823T141407Z
UID:2612-1599915600-1599922800@scoutinghubertus.nl
SUMMARY:Opkomst Welpen
DESCRIPTION:
URL:https://scoutinghubertus.nl/event/opkomst-welpen-39/
LOCATION:’t Stift\, Hammolenweg 7\, Kerkrade\, 6466 XT\, Nederland
CATEGORIES:Welpen Opkomsten
END:VEVENT
BEGIN:VEVENT
DTSTART;TZID=Europe/Amsterdam:20200905T150000
DTEND;TZID=Europe/Amsterdam:20200905T170000
DTSTAMP:20260425T184808
CREATED:20200823T141723Z
LAST-MODIFIED:20200823T141723Z
UID:2618-1599318000-1599325200@scoutinghubertus.nl
SUMMARY:Opening seizoen en overvliegen
DESCRIPTION:
URL:https://scoutinghubertus.nl/event/opening-seizoen-en-overvliegen-2/
LOCATION:’t Stift\, Hammolenweg 7\, Kerkrade\, 6466 XT\, Nederland
CATEGORIES:Scouts Opkomsten,Speciale Evementen,Welpen Opkomsten
END:VEVENT
BEGIN:VEVENT
DTSTART;TZID=Europe/Amsterdam:20200829T190000
DTEND;TZID=Europe/Amsterdam:20200829T210000
DTSTAMP:20260425T184808
CREATED:20200823T141534Z
LAST-MODIFIED:20200823T141534Z
UID:2614-1598727600-1598734800@scoutinghubertus.nl
SUMMARY:Opkomst Scouts
DESCRIPTION:
URL:https://scoutinghubertus.nl/event/opkomst-scouts-59/
LOCATION:’t Stift\, Hammolenweg 7\, Kerkrade\, 6466 XT\, Nederland
CATEGORIES:Scouts Opkomsten
END:VEVENT
BEGIN:VEVENT
DTSTART;TZID=Europe/Amsterdam:20200829T130000
DTEND;TZID=Europe/Amsterdam:20200829T150000
DTSTAMP:20260425T184808
CREATED:20200823T141311Z
LAST-MODIFIED:20200823T141311Z
UID:2610-1598706000-1598713200@scoutinghubertus.nl
SUMMARY:Opkomst Welpen
DESCRIPTION:1e opkomst welpen in nieuwe seizoen (2020-2021)
URL:https://scoutinghubertus.nl/event/opkomst-welpen-38/
LOCATION:’t Stift\, Hammolenweg 7\, Kerkrade\, 6466 XT\, Nederland
CATEGORIES:Welpen Opkomsten
END:VEVENT
BEGIN:VEVENT
DTSTART;TZID=Europe/Amsterdam:20200713T100000
DTEND;TZID=Europe/Amsterdam:20200718T130000
DTSTAMP:20260425T184808
CREATED:20200711T084907Z
LAST-MODIFIED:20200711T084907Z
UID:2607-1594634400-1595077200@scoutinghubertus.nl
SUMMARY:Zomerkamp Welpen en Scouts\, Evertsoord
DESCRIPTION:
URL:https://scoutinghubertus.nl/event/zomerkamp-welpen-en-scouts-evertsoord/
CATEGORIES:Scouts Opkomsten,Speciale Evementen,Welpen Opkomsten
END:VEVENT
BEGIN:VEVENT
DTSTART;TZID=Europe/Amsterdam:20200711T153000
DTEND;TZID=Europe/Amsterdam:20200711T180000
DTSTAMP:20260425T184808
CREATED:20200711T084533Z
LAST-MODIFIED:20200711T084533Z
UID:2605-1594481400-1594490400@scoutinghubertus.nl
SUMMARY:Opkomst Welpen en Scouts\, Installatie en Afsluitings BBQ
DESCRIPTION:
URL:https://scoutinghubertus.nl/event/opkomst-welpen-en-scouts-installatie-en-afsluitings-bbq/
LOCATION:’t Stift\, Hammolenweg 7\, Kerkrade\, 6466 XT\, Nederland
CATEGORIES:Scouts Opkomsten,Speciale Evementen,Welpen Opkomsten
END:VEVENT
BEGIN:VEVENT
DTSTART;TZID=Europe/Amsterdam:20200208T190000
DTEND;TZID=Europe/Amsterdam:20200208T210000
DTSTAMP:20260425T184808
CREATED:20200103T183118Z
LAST-MODIFIED:20200103T183118Z
UID:2577-1581188400-1581195600@scoutinghubertus.nl
SUMMARY:Opkomst Scouts
DESCRIPTION:
URL:https://scoutinghubertus.nl/event/opkomst-scouts-58/
LOCATION:’t Stift\, Hammolenweg 7\, Kerkrade\, 6466 XT\, Nederland
CATEGORIES:Scouts Opkomsten
END:VEVENT
BEGIN:VEVENT
DTSTART;TZID=Europe/Amsterdam:20200208T130000
DTEND;TZID=Europe/Amsterdam:20200208T150000
DTSTAMP:20260425T184808
CREATED:20200103T183403Z
LAST-MODIFIED:20200103T183403Z
UID:2585-1581166800-1581174000@scoutinghubertus.nl
SUMMARY:Opkomst Welpen
DESCRIPTION:
URL:https://scoutinghubertus.nl/event/opkomst-welpen-37/
LOCATION:’t Stift\, Hammolenweg 7\, Kerkrade\, 6466 XT\, Nederland
CATEGORIES:Welpen Opkomsten
END:VEVENT
BEGIN:VEVENT
DTSTART;TZID=Europe/Amsterdam:20200201T190000
DTEND;TZID=Europe/Amsterdam:20200201T210000
DTSTAMP:20260425T184808
CREATED:20200103T183025Z
LAST-MODIFIED:20200103T183025Z
UID:2575-1580583600-1580590800@scoutinghubertus.nl
SUMMARY:Opkomst Scouts
DESCRIPTION:
URL:https://scoutinghubertus.nl/event/opkomst-scouts-57/
LOCATION:’t Stift\, Hammolenweg 7\, Kerkrade\, 6466 XT\, Nederland
CATEGORIES:Scouts Opkomsten
END:VEVENT
BEGIN:VEVENT
DTSTART;TZID=Europe/Amsterdam:20200201T130000
DTEND;TZID=Europe/Amsterdam:20200201T150000
DTSTAMP:20260425T184808
CREATED:20200103T183318Z
LAST-MODIFIED:20200103T183318Z
UID:2583-1580562000-1580569200@scoutinghubertus.nl
SUMMARY:Opkomst Welpen
DESCRIPTION:
URL:https://scoutinghubertus.nl/event/opkomst-welpen-36/
LOCATION:’t Stift\, Hammolenweg 7\, Kerkrade\, 6466 XT\, Nederland
CATEGORIES:Welpen Opkomsten
END:VEVENT
BEGIN:VEVENT
DTSTART;TZID=Europe/Amsterdam:20200125T190000
DTEND;TZID=Europe/Amsterdam:20200125T210000
DTSTAMP:20260425T184808
CREATED:20200103T182920Z
LAST-MODIFIED:20200103T182920Z
UID:2573-1579978800-1579986000@scoutinghubertus.nl
SUMMARY:Opkomst Scouts
DESCRIPTION:
URL:https://scoutinghubertus.nl/event/opkomst-scouts-56/
LOCATION:’t Stift\, Hammolenweg 7\, Kerkrade\, 6466 XT\, Nederland
CATEGORIES:Scouts Opkomsten
END:VEVENT
END:VCALENDAR