BEGIN:VCALENDAR
VERSION:2.0
PRODID:-//Scouting St. Hubertus Kerkrade-West - ECPv6.15.20//NONSGML v1.0//EN
CALSCALE:GREGORIAN
METHOD:PUBLISH
X-WR-CALNAME:Scouting St. Hubertus Kerkrade-West
X-ORIGINAL-URL:https://scoutinghubertus.nl
X-WR-CALDESC:Evenementen voor Scouting St. Hubertus Kerkrade-West
REFRESH-INTERVAL;VALUE=DURATION:PT1H
X-Robots-Tag:noindex
X-PUBLISHED-TTL:PT1H
BEGIN:VTIMEZONE
TZID:Europe/Amsterdam
BEGIN:DAYLIGHT
TZOFFSETFROM:+0100
TZOFFSETTO:+0200
TZNAME:CEST
DTSTART:20180325T010000
END:DAYLIGHT
BEGIN:STANDARD
TZOFFSETFROM:+0200
TZOFFSETTO:+0100
TZNAME:CET
DTSTART:20181028T010000
END:STANDARD
BEGIN:DAYLIGHT
TZOFFSETFROM:+0100
TZOFFSETTO:+0200
TZNAME:CEST
DTSTART:20190331T010000
END:DAYLIGHT
BEGIN:STANDARD
TZOFFSETFROM:+0200
TZOFFSETTO:+0100
TZNAME:CET
DTSTART:20191027T010000
END:STANDARD
BEGIN:DAYLIGHT
TZOFFSETFROM:+0100
TZOFFSETTO:+0200
TZNAME:CEST
DTSTART:20200329T010000
END:DAYLIGHT
BEGIN:STANDARD
TZOFFSETFROM:+0200
TZOFFSETTO:+0100
TZNAME:CET
DTSTART:20201025T010000
END:STANDARD
BEGIN:DAYLIGHT
TZOFFSETFROM:+0100
TZOFFSETTO:+0200
TZNAME:CEST
DTSTART:20210328T010000
END:DAYLIGHT
BEGIN:STANDARD
TZOFFSETFROM:+0200
TZOFFSETTO:+0100
TZNAME:CET
DTSTART:20211031T010000
END:STANDARD
END:VTIMEZONE
BEGIN:VEVENT
DTSTART;TZID=Europe/Amsterdam:20200905T150000
DTEND;TZID=Europe/Amsterdam:20200905T170000
DTSTAMP:20260426T062614
CREATED:20200823T141723Z
LAST-MODIFIED:20200823T141723Z
UID:2618-1599318000-1599325200@scoutinghubertus.nl
SUMMARY:Opening seizoen en overvliegen
DESCRIPTION:
URL:https://scoutinghubertus.nl/event/opening-seizoen-en-overvliegen-2/
LOCATION:’t Stift\, Hammolenweg 7\, Kerkrade\, 6466 XT\, Nederland
CATEGORIES:Scouts Opkomsten,Speciale Evementen,Welpen Opkomsten
END:VEVENT
BEGIN:VEVENT
DTSTART;TZID=Europe/Amsterdam:20200829T190000
DTEND;TZID=Europe/Amsterdam:20200829T210000
DTSTAMP:20260426T062614
CREATED:20200823T141534Z
LAST-MODIFIED:20200823T141534Z
UID:2614-1598727600-1598734800@scoutinghubertus.nl
SUMMARY:Opkomst Scouts
DESCRIPTION:
URL:https://scoutinghubertus.nl/event/opkomst-scouts-59/
LOCATION:’t Stift\, Hammolenweg 7\, Kerkrade\, 6466 XT\, Nederland
CATEGORIES:Scouts Opkomsten
END:VEVENT
BEGIN:VEVENT
DTSTART;TZID=Europe/Amsterdam:20200829T130000
DTEND;TZID=Europe/Amsterdam:20200829T150000
DTSTAMP:20260426T062614
CREATED:20200823T141311Z
LAST-MODIFIED:20200823T141311Z
UID:2610-1598706000-1598713200@scoutinghubertus.nl
SUMMARY:Opkomst Welpen
DESCRIPTION:1e opkomst welpen in nieuwe seizoen (2020-2021)
URL:https://scoutinghubertus.nl/event/opkomst-welpen-38/
LOCATION:’t Stift\, Hammolenweg 7\, Kerkrade\, 6466 XT\, Nederland
CATEGORIES:Welpen Opkomsten
END:VEVENT
BEGIN:VEVENT
DTSTART;TZID=Europe/Amsterdam:20200713T100000
DTEND;TZID=Europe/Amsterdam:20200718T130000
DTSTAMP:20260426T062614
CREATED:20200711T084907Z
LAST-MODIFIED:20200711T084907Z
UID:2607-1594634400-1595077200@scoutinghubertus.nl
SUMMARY:Zomerkamp Welpen en Scouts\, Evertsoord
DESCRIPTION:
URL:https://scoutinghubertus.nl/event/zomerkamp-welpen-en-scouts-evertsoord/
CATEGORIES:Scouts Opkomsten,Speciale Evementen,Welpen Opkomsten
END:VEVENT
BEGIN:VEVENT
DTSTART;TZID=Europe/Amsterdam:20200711T153000
DTEND;TZID=Europe/Amsterdam:20200711T180000
DTSTAMP:20260426T062614
CREATED:20200711T084533Z
LAST-MODIFIED:20200711T084533Z
UID:2605-1594481400-1594490400@scoutinghubertus.nl
SUMMARY:Opkomst Welpen en Scouts\, Installatie en Afsluitings BBQ
DESCRIPTION:
URL:https://scoutinghubertus.nl/event/opkomst-welpen-en-scouts-installatie-en-afsluitings-bbq/
LOCATION:’t Stift\, Hammolenweg 7\, Kerkrade\, 6466 XT\, Nederland
CATEGORIES:Scouts Opkomsten,Speciale Evementen,Welpen Opkomsten
END:VEVENT
BEGIN:VEVENT
DTSTART;TZID=Europe/Amsterdam:20200208T190000
DTEND;TZID=Europe/Amsterdam:20200208T210000
DTSTAMP:20260426T062614
CREATED:20200103T183118Z
LAST-MODIFIED:20200103T183118Z
UID:2577-1581188400-1581195600@scoutinghubertus.nl
SUMMARY:Opkomst Scouts
DESCRIPTION:
URL:https://scoutinghubertus.nl/event/opkomst-scouts-58/
LOCATION:’t Stift\, Hammolenweg 7\, Kerkrade\, 6466 XT\, Nederland
CATEGORIES:Scouts Opkomsten
END:VEVENT
BEGIN:VEVENT
DTSTART;TZID=Europe/Amsterdam:20200208T130000
DTEND;TZID=Europe/Amsterdam:20200208T150000
DTSTAMP:20260426T062614
CREATED:20200103T183403Z
LAST-MODIFIED:20200103T183403Z
UID:2585-1581166800-1581174000@scoutinghubertus.nl
SUMMARY:Opkomst Welpen
DESCRIPTION:
URL:https://scoutinghubertus.nl/event/opkomst-welpen-37/
LOCATION:’t Stift\, Hammolenweg 7\, Kerkrade\, 6466 XT\, Nederland
CATEGORIES:Welpen Opkomsten
END:VEVENT
BEGIN:VEVENT
DTSTART;TZID=Europe/Amsterdam:20200201T190000
DTEND;TZID=Europe/Amsterdam:20200201T210000
DTSTAMP:20260426T062614
CREATED:20200103T183025Z
LAST-MODIFIED:20200103T183025Z
UID:2575-1580583600-1580590800@scoutinghubertus.nl
SUMMARY:Opkomst Scouts
DESCRIPTION:
URL:https://scoutinghubertus.nl/event/opkomst-scouts-57/
LOCATION:’t Stift\, Hammolenweg 7\, Kerkrade\, 6466 XT\, Nederland
CATEGORIES:Scouts Opkomsten
END:VEVENT
BEGIN:VEVENT
DTSTART;TZID=Europe/Amsterdam:20200201T130000
DTEND;TZID=Europe/Amsterdam:20200201T150000
DTSTAMP:20260426T062614
CREATED:20200103T183318Z
LAST-MODIFIED:20200103T183318Z
UID:2583-1580562000-1580569200@scoutinghubertus.nl
SUMMARY:Opkomst Welpen
DESCRIPTION:
URL:https://scoutinghubertus.nl/event/opkomst-welpen-36/
LOCATION:’t Stift\, Hammolenweg 7\, Kerkrade\, 6466 XT\, Nederland
CATEGORIES:Welpen Opkomsten
END:VEVENT
BEGIN:VEVENT
DTSTART;TZID=Europe/Amsterdam:20200125T190000
DTEND;TZID=Europe/Amsterdam:20200125T210000
DTSTAMP:20260426T062614
CREATED:20200103T182920Z
LAST-MODIFIED:20200103T182920Z
UID:2573-1579978800-1579986000@scoutinghubertus.nl
SUMMARY:Opkomst Scouts
DESCRIPTION:
URL:https://scoutinghubertus.nl/event/opkomst-scouts-56/
LOCATION:’t Stift\, Hammolenweg 7\, Kerkrade\, 6466 XT\, Nederland
CATEGORIES:Scouts Opkomsten
END:VEVENT
BEGIN:VEVENT
DTSTART;TZID=Europe/Amsterdam:20200125T130000
DTEND;TZID=Europe/Amsterdam:20200125T150000
DTSTAMP:20260426T062614
CREATED:20200103T183246Z
LAST-MODIFIED:20200103T183246Z
UID:2581-1579957200-1579964400@scoutinghubertus.nl
SUMMARY:Opkomst Welpen
DESCRIPTION:
URL:https://scoutinghubertus.nl/event/opkomst-welpen-35/
LOCATION:’t Stift\, Hammolenweg 7\, Kerkrade\, 6466 XT\, Nederland
CATEGORIES:Welpen Opkomsten
END:VEVENT
BEGIN:VEVENT
DTSTART;TZID=Europe/Amsterdam:20200118T190000
DTEND;TZID=Europe/Amsterdam:20200118T210000
DTSTAMP:20260426T062614
CREATED:20200103T182837Z
LAST-MODIFIED:20200103T182837Z
UID:2571-1579374000-1579381200@scoutinghubertus.nl
SUMMARY:Opkomst Scouts
DESCRIPTION:
URL:https://scoutinghubertus.nl/event/opkomst-scouts-55/
LOCATION:’t Stift\, Hammolenweg 7\, Kerkrade\, 6466 XT\, Nederland
CATEGORIES:Scouts Opkomsten
END:VEVENT
BEGIN:VEVENT
DTSTART;TZID=Europe/Amsterdam:20200118T130000
DTEND;TZID=Europe/Amsterdam:20200118T150000
DTSTAMP:20260426T062614
CREATED:20200103T183214Z
LAST-MODIFIED:20200103T183214Z
UID:2579-1579352400-1579359600@scoutinghubertus.nl
SUMMARY:Opkomst Welpen
DESCRIPTION:
URL:https://scoutinghubertus.nl/event/opkomst-welpen-34/
LOCATION:’t Stift\, Hammolenweg 7\, Kerkrade\, 6466 XT\, Nederland
CATEGORIES:Welpen Opkomsten
END:VEVENT
BEGIN:VEVENT
DTSTART;TZID=Europe/Amsterdam:20200111T094500
DTEND;TZID=Europe/Amsterdam:20200111T140000
DTSTAMP:20260426T062614
CREATED:20200103T182508Z
LAST-MODIFIED:20200103T182636Z
UID:2567-1578735900-1578751200@scoutinghubertus.nl
SUMMARY:Opkomst 11-1-2019 Schaatsen!
DESCRIPTION:Op zaterdag 11 januari gaan de Welpen en de Scouts samen schaatsen bij Glanerbrook in Geleen\, van 10.00-14.00 uur. \nWe verzamelen om 09:45 uur bij ons lokaal zodat wij om 10.00 uur kunnen vertrekken. \nVoor de terugreis verwachten wij rond 14:00 uur bij ons lokaal terug te zijn. \n  \nBijdrage: 5 euro. \nNiet vergeten: lunchpakket met voldoende eten en drinken voor een sportieve ochtend\, handschoenen (VERPLICHT!)\, waterdichte broek of reserve broek\, sjaal\, muts\, dikke en hoge sokken\, eventueel eigen schaatsen.
URL:https://scoutinghubertus.nl/event/opkomst-11-1-2019-schaatsen/
CATEGORIES:Scouts Opkomsten,Speciale Evementen,Welpen Opkomsten
END:VEVENT
BEGIN:VEVENT
DTSTART;VALUE=DATE:20191221
DTEND;VALUE=DATE:20191222
DTSTAMP:20260426T062614
CREATED:20191103T093602Z
LAST-MODIFIED:20191103T093602Z
UID:2562-1576886400-1576972799@scoutinghubertus.nl
SUMMARY:Groepsactiviteit Kerstviering; Welpen\, Scouts en Explorers
DESCRIPTION:
URL:https://scoutinghubertus.nl/event/groepsactiviteit-kerstviering-welpen-scouts-en-explorers/
LOCATION:’t Stift\, Hammolenweg 7\, Kerkrade\, 6466 XT\, Nederland
CATEGORIES:Explorer Opkomsten,Scouts Opkomsten,Speciale Evementen,Welpen Opkomsten
END:VEVENT
BEGIN:VEVENT
DTSTART;TZID=Europe/Amsterdam:20191214T190000
DTEND;TZID=Europe/Amsterdam:20191214T210000
DTSTAMP:20260426T062614
CREATED:20191103T093104Z
LAST-MODIFIED:20191103T093104Z
UID:2554-1576350000-1576357200@scoutinghubertus.nl
SUMMARY:Opkomst Scouts
DESCRIPTION:
URL:https://scoutinghubertus.nl/event/opkomst-scouts-54/
LOCATION:’t Stift\, Hammolenweg 7\, Kerkrade\, 6466 XT\, Nederland
CATEGORIES:Scouts Opkomsten
END:VEVENT
BEGIN:VEVENT
DTSTART;TZID=Europe/Amsterdam:20191213T200000
DTEND;TZID=Europe/Amsterdam:20191213T220000
DTSTAMP:20260426T062614
CREATED:20191103T092656Z
LAST-MODIFIED:20191103T092656Z
UID:2544-1576267200-1576274400@scoutinghubertus.nl
SUMMARY:Opkomst Explorers
DESCRIPTION:
URL:https://scoutinghubertus.nl/event/opkomst-explorers-10/
LOCATION:’t Stift\, Hammolenweg 7\, Kerkrade\, 6466 XT\, Nederland
CATEGORIES:Explorer Opkomsten
END:VEVENT
BEGIN:VEVENT
DTSTART;TZID=Europe/Amsterdam:20191207T190000
DTEND;TZID=Europe/Amsterdam:20191207T210000
DTSTAMP:20260426T062614
CREATED:20191103T093035Z
LAST-MODIFIED:20191103T093035Z
UID:2552-1575745200-1575752400@scoutinghubertus.nl
SUMMARY:Opkomst Scouts
DESCRIPTION:
URL:https://scoutinghubertus.nl/event/opkomst-scouts-53/
LOCATION:’t Stift\, Hammolenweg 7\, Kerkrade\, 6466 XT\, Nederland
CATEGORIES:Scouts Opkomsten
END:VEVENT
BEGIN:VEVENT
DTSTART;TZID=Europe/Amsterdam:20191207T123000
DTEND;TZID=Europe/Amsterdam:20191207T150000
DTSTAMP:20260426T062614
CREATED:20191103T093442Z
LAST-MODIFIED:20191103T093442Z
UID:2560-1575721800-1575730800@scoutinghubertus.nl
SUMMARY:Opkomst Welpen
DESCRIPTION:
URL:https://scoutinghubertus.nl/event/opkomst-welpen-33/
LOCATION:’t Stift\, Hammolenweg 7\, Kerkrade\, 6466 XT\, Nederland
CATEGORIES:Welpen Opkomsten
END:VEVENT
BEGIN:VEVENT
DTSTART;TZID=Europe/Amsterdam:20191206T200000
DTEND;TZID=Europe/Amsterdam:20191206T220000
DTSTAMP:20260426T062614
CREATED:20191103T092624Z
LAST-MODIFIED:20191103T092624Z
UID:2542-1575662400-1575669600@scoutinghubertus.nl
SUMMARY:Opkomst Explorers
DESCRIPTION:
URL:https://scoutinghubertus.nl/event/opkomst-explorers-9/
LOCATION:’t Stift\, Hammolenweg 7\, Kerkrade\, 6466 XT\, Nederland
CATEGORIES:Explorer Opkomsten
END:VEVENT
BEGIN:VEVENT
DTSTART;TZID=Europe/Amsterdam:20191130T190000
DTEND;TZID=Europe/Amsterdam:20191130T210000
DTSTAMP:20260426T062614
CREATED:20191103T092958Z
LAST-MODIFIED:20191103T092958Z
UID:2550-1575140400-1575147600@scoutinghubertus.nl
SUMMARY:Opkomst Scouts
DESCRIPTION:
URL:https://scoutinghubertus.nl/event/opkomst-scouts-52/
LOCATION:’t Stift\, Hammolenweg 7\, Kerkrade\, 6466 XT\, Nederland
CATEGORIES:Scouts Opkomsten
END:VEVENT
BEGIN:VEVENT
DTSTART;TZID=Europe/Amsterdam:20191129T200000
DTEND;TZID=Europe/Amsterdam:20191129T220000
DTSTAMP:20260426T062614
CREATED:20191103T092548Z
LAST-MODIFIED:20191103T092548Z
UID:2540-1575057600-1575064800@scoutinghubertus.nl
SUMMARY:Opkomst Explorers
DESCRIPTION:
URL:https://scoutinghubertus.nl/event/opkomst-explorers-8/
LOCATION:’t Stift\, Hammolenweg 7\, Kerkrade\, 6466 XT\, Nederland
CATEGORIES:Explorer Opkomsten
END:VEVENT
BEGIN:VEVENT
DTSTART;TZID=Europe/Amsterdam:20191123T190000
DTEND;TZID=Europe/Amsterdam:20191123T210000
DTSTAMP:20260426T062614
CREATED:20191103T092821Z
LAST-MODIFIED:20191103T092821Z
UID:2548-1574535600-1574542800@scoutinghubertus.nl
SUMMARY:Opkomst Scouts
DESCRIPTION:
URL:https://scoutinghubertus.nl/event/opkomst-scouts-51/
LOCATION:’t Stift\, Hammolenweg 7\, Kerkrade\, 6466 XT\, Nederland
CATEGORIES:Scouts Opkomsten
END:VEVENT
BEGIN:VEVENT
DTSTART;TZID=Europe/Amsterdam:20191123T123000
DTEND;TZID=Europe/Amsterdam:20191123T150000
DTSTAMP:20260426T062614
CREATED:20191103T093401Z
LAST-MODIFIED:20191103T093401Z
UID:2558-1574512200-1574521200@scoutinghubertus.nl
SUMMARY:Opkomst Welpen
DESCRIPTION:
URL:https://scoutinghubertus.nl/event/opkomst-welpen-32/
LOCATION:’t Stift\, Hammolenweg 7\, Kerkrade\, 6466 XT\, Nederland
CATEGORIES:Welpen Opkomsten
END:VEVENT
BEGIN:VEVENT
DTSTART;TZID=Europe/Amsterdam:20191122T200000
DTEND;TZID=Europe/Amsterdam:20191122T220000
DTSTAMP:20260426T062614
CREATED:20191103T092520Z
LAST-MODIFIED:20191103T092520Z
UID:2538-1574452800-1574460000@scoutinghubertus.nl
SUMMARY:Opkomst Explorers
DESCRIPTION:
URL:https://scoutinghubertus.nl/event/opkomst-explorers-7/
LOCATION:’t Stift\, Hammolenweg 7\, Kerkrade\, 6466 XT\, Nederland
CATEGORIES:Explorer Opkomsten
END:VEVENT
BEGIN:VEVENT
DTSTART;TZID=Europe/Amsterdam:20191116T190000
DTEND;TZID=Europe/Amsterdam:20191116T210000
DTSTAMP:20260426T062614
CREATED:20191103T092755Z
LAST-MODIFIED:20191103T092755Z
UID:2546-1573930800-1573938000@scoutinghubertus.nl
SUMMARY:Opkomst Scouts
DESCRIPTION:
URL:https://scoutinghubertus.nl/event/opkomst-scouts-50/
LOCATION:’t Stift\, Hammolenweg 7\, Kerkrade\, 6466 XT\, Nederland
CATEGORIES:Scouts Opkomsten
END:VEVENT
BEGIN:VEVENT
DTSTART;TZID=Europe/Amsterdam:20191115T200000
DTEND;TZID=Europe/Amsterdam:20191115T220000
DTSTAMP:20260426T062614
CREATED:20191103T092446Z
LAST-MODIFIED:20191103T092446Z
UID:2536-1573848000-1573855200@scoutinghubertus.nl
SUMMARY:Opkomst Explorers
DESCRIPTION:
URL:https://scoutinghubertus.nl/event/opkomst-explorers-6/
LOCATION:’t Stift\, Hammolenweg 7\, Kerkrade\, 6466 XT\, Nederland
CATEGORIES:Explorer Opkomsten
END:VEVENT
BEGIN:VEVENT
DTSTART;TZID=Europe/Amsterdam:20191109T131500
DTEND;TZID=Europe/Amsterdam:20191109T170000
DTSTAMP:20260426T062614
CREATED:20191103T084156Z
LAST-MODIFIED:20191103T084156Z
UID:2530-1573305300-1573318800@scoutinghubertus.nl
SUMMARY:Jubileumactiviteit Welpen\, Scouts en Explorers
DESCRIPTION:Dit jaar bestaat Scouting St. Hubertus Kerkrade-West 75 jaar. En dat willen wij met jou vieren! \nOp 9 november 2019 wordt daarom een jubileum activiteit gehouden voor al onze jeugdleden. \nWij verzamelen om 13.15 uur bij de parkeerplaats van de Leisure Dome in Kerkrade (Roda J.C. Ring 2\, bij het Parkstad Limburg Stadion). Hier staat voor alle Welpen\, Scouts én Explorers een gevarieerd programma gepland. Om 17 uur word je dan weer bij Leisure Dome opgehaald. \nBereid je alvast voor op een actieve\, sportieve en vooral leuke middag\, want er staat van alles gepland!
URL:https://scoutinghubertus.nl/event/jubileumactiviteit-welpen-scouts-en-explorers/
CATEGORIES:Explorer Opkomsten,Scouts Opkomsten,Speciale Evementen,Welpen Opkomsten
END:VEVENT
BEGIN:VEVENT
DTSTART;TZID=Europe/Amsterdam:20191102T190000
DTEND;TZID=Europe/Amsterdam:20191103T210000
DTSTAMP:20260426T062614
CREATED:20191103T084345Z
LAST-MODIFIED:20191103T084345Z
UID:2532-1572721200-1572814800@scoutinghubertus.nl
SUMMARY:Opkomst Scouts
DESCRIPTION:
URL:https://scoutinghubertus.nl/event/opkomst-scouts-48/
LOCATION:’t Stift\, Hammolenweg 7\, Kerkrade\, 6466 XT\, Nederland
CATEGORIES:Scouts Opkomsten
END:VEVENT
BEGIN:VEVENT
DTSTART;TZID=Europe/Amsterdam:20191101T200000
DTEND;TZID=Europe/Amsterdam:20191101T220000
DTSTAMP:20260426T062614
CREATED:20191103T083742Z
LAST-MODIFIED:20191103T083742Z
UID:2528-1572638400-1572645600@scoutinghubertus.nl
SUMMARY:Opkomst Explorers
DESCRIPTION:
URL:https://scoutinghubertus.nl/event/opkomst-explorers-5/
LOCATION:’t Stift\, Hammolenweg 7\, Kerkrade\, 6466 XT\, Nederland
CATEGORIES:Explorer Opkomsten
END:VEVENT
END:VCALENDAR