BEGIN:VCALENDAR
VERSION:2.0
PRODID:-//Scouting St. Hubertus Kerkrade-West - ECPv6.15.20//NONSGML v1.0//EN
CALSCALE:GREGORIAN
METHOD:PUBLISH
X-WR-CALNAME:Scouting St. Hubertus Kerkrade-West
X-ORIGINAL-URL:https://scoutinghubertus.nl
X-WR-CALDESC:Evenementen voor Scouting St. Hubertus Kerkrade-West
REFRESH-INTERVAL;VALUE=DURATION:PT1H
X-Robots-Tag:noindex
X-PUBLISHED-TTL:PT1H
BEGIN:VTIMEZONE
TZID:UTC
BEGIN:STANDARD
TZOFFSETFROM:+0000
TZOFFSETTO:+0000
TZNAME:UTC
DTSTART:20210101T000000
END:STANDARD
END:VTIMEZONE
BEGIN:VEVENT
DTSTART;TZID=UTC:20221105T130000
DTEND;TZID=UTC:20221105T150000
DTSTAMP:20260426T030856
CREATED:20221103T222906Z
LAST-MODIFIED:20221103T230030Z
UID:2706-1667653200-1667660400@scoutinghubertus.nl
SUMMARY:Opkomst Welpen
DESCRIPTION:
URL:https://scoutinghubertus.nl/event/opkomst-welpen-54/
LOCATION:’t Stift\, Hammolenweg 7\, Kerkrade\, 6466 XT\, Nederland
CATEGORIES:Welpen Opkomsten
END:VEVENT
BEGIN:VEVENT
DTSTART;TZID=UTC:20221105T190000
DTEND;TZID=UTC:20221105T210000
DTSTAMP:20260426T030856
CREATED:20221103T222952Z
LAST-MODIFIED:20221103T230216Z
UID:2708-1667674800-1667682000@scoutinghubertus.nl
SUMMARY:Opkomst Scouts
DESCRIPTION:
URL:https://scoutinghubertus.nl/event/opkomst-scouts-72/
LOCATION:’t Stift\, Hammolenweg 7\, Kerkrade\, 6466 XT\, Nederland
CATEGORIES:Scouts Opkomsten
END:VEVENT
BEGIN:VEVENT
DTSTART;TZID=UTC:20221106T190000
DTEND;TZID=UTC:20221106T210000
DTSTAMP:20260426T030856
CREATED:20221103T223027Z
LAST-MODIFIED:20221103T230153Z
UID:2710-1667761200-1667768400@scoutinghubertus.nl
SUMMARY:Opkomst Explorers
DESCRIPTION:
URL:https://scoutinghubertus.nl/event/opkomst-explorers-11/
LOCATION:’t Stift\, Hammolenweg 7\, Kerkrade\, 6466 XT\, Nederland
CATEGORIES:Explorer Opkomsten
END:VEVENT
BEGIN:VEVENT
DTSTART;TZID=UTC:20221112T130000
DTEND;TZID=UTC:20221112T150000
DTSTAMP:20260426T030856
CREATED:20221103T223152Z
LAST-MODIFIED:20221103T230121Z
UID:2712-1668258000-1668265200@scoutinghubertus.nl
SUMMARY:Opkomst Welpen
DESCRIPTION:
URL:https://scoutinghubertus.nl/event/opkomst-welpen-55/
LOCATION:’t Stift\, Hammolenweg 7\, Kerkrade\, 6466 XT\, Nederland
CATEGORIES:Welpen Opkomsten
END:VEVENT
BEGIN:VEVENT
DTSTART;TZID=UTC:20221112T190000
DTEND;TZID=UTC:20221112T210000
DTSTAMP:20260426T030856
CREATED:20221103T223232Z
LAST-MODIFIED:20221103T230216Z
UID:2714-1668279600-1668286800@scoutinghubertus.nl
SUMMARY:Opkomst Scouts
DESCRIPTION:
URL:https://scoutinghubertus.nl/event/opkomst-scouts-73/
LOCATION:’t Stift\, Hammolenweg 7\, Kerkrade\, 6466 XT\, Nederland
CATEGORIES:Scouts Opkomsten
END:VEVENT
BEGIN:VEVENT
DTSTART;TZID=UTC:20221113T190000
DTEND;TZID=UTC:20221113T210000
DTSTAMP:20260426T030856
CREATED:20221103T223340Z
LAST-MODIFIED:20221103T230153Z
UID:2716-1668366000-1668373200@scoutinghubertus.nl
SUMMARY:Opkomst Explorers
DESCRIPTION:
URL:https://scoutinghubertus.nl/event/opkomst-explorers-12/
LOCATION:’t Stift\, Hammolenweg 7\, Kerkrade\, 6466 XT\, Nederland
CATEGORIES:Explorer Opkomsten
END:VEVENT
BEGIN:VEVENT
DTSTART;TZID=UTC:20221119T130000
DTEND;TZID=UTC:20221119T150000
DTSTAMP:20260426T030856
CREATED:20221103T225742Z
LAST-MODIFIED:20221103T230121Z
UID:2730-1668862800-1668870000@scoutinghubertus.nl
SUMMARY:Opkomst Welpen
DESCRIPTION:
URL:https://scoutinghubertus.nl/event/opkomst-welpen-56/
LOCATION:’t Stift\, Hammolenweg 7\, Kerkrade\, 6466 XT\, Nederland
CATEGORIES:Welpen Opkomsten
END:VEVENT
BEGIN:VEVENT
DTSTART;TZID=UTC:20221119T190000
DTEND;TZID=UTC:20221119T210000
DTSTAMP:20260426T030856
CREATED:20221103T230411Z
LAST-MODIFIED:20221103T230411Z
UID:2738-1668884400-1668891600@scoutinghubertus.nl
SUMMARY:Opkomst Scouts
DESCRIPTION:
URL:https://scoutinghubertus.nl/event/opkomst-scouts-74/
LOCATION:’t Stift\, Hammolenweg 7\, Kerkrade\, 6466 XT\, Nederland
CATEGORIES:Scouts Opkomsten
END:VEVENT
BEGIN:VEVENT
DTSTART;TZID=UTC:20221120T190000
DTEND;TZID=UTC:20221120T210000
DTSTAMP:20260426T030856
CREATED:20221103T225456Z
LAST-MODIFIED:20221103T230153Z
UID:2722-1668970800-1668978000@scoutinghubertus.nl
SUMMARY:Opkomst Explorers
DESCRIPTION:
URL:https://scoutinghubertus.nl/event/opkomst-explorers-13/
LOCATION:’t Stift\, Hammolenweg 7\, Kerkrade\, 6466 XT\, Nederland
CATEGORIES:Explorer Opkomsten
END:VEVENT
BEGIN:VEVENT
DTSTART;TZID=UTC:20221126T130000
DTEND;TZID=UTC:20221126T150000
DTSTAMP:20260426T030856
CREATED:20221103T225808Z
LAST-MODIFIED:20221103T230121Z
UID:2732-1669467600-1669474800@scoutinghubertus.nl
SUMMARY:Opkomst Welpen
DESCRIPTION:
URL:https://scoutinghubertus.nl/event/opkomst-welpen-57/
LOCATION:’t Stift\, Hammolenweg 7\, Kerkrade\, 6466 XT\, Nederland
CATEGORIES:Welpen Opkomsten
END:VEVENT
BEGIN:VEVENT
DTSTART;TZID=UTC:20221126T190000
DTEND;TZID=UTC:20221126T210000
DTSTAMP:20260426T030856
CREATED:20221103T230444Z
LAST-MODIFIED:20221103T230444Z
UID:2740-1669489200-1669496400@scoutinghubertus.nl
SUMMARY:Opkomst Scouts
DESCRIPTION:
URL:https://scoutinghubertus.nl/event/opkomst-scouts-75/
LOCATION:’t Stift\, Hammolenweg 7\, Kerkrade\, 6466 XT\, Nederland
CATEGORIES:Scouts Opkomsten
END:VEVENT
BEGIN:VEVENT
DTSTART;TZID=UTC:20221127T190000
DTEND;TZID=UTC:20221127T210000
DTSTAMP:20260426T030856
CREATED:20221103T225541Z
LAST-MODIFIED:20221103T230153Z
UID:2724-1669575600-1669582800@scoutinghubertus.nl
SUMMARY:Opkomst Explorers
DESCRIPTION:
URL:https://scoutinghubertus.nl/event/opkomst-explorers-14/
LOCATION:’t Stift\, Hammolenweg 7\, Kerkrade\, 6466 XT\, Nederland
CATEGORIES:Explorer Opkomsten
END:VEVENT
END:VCALENDAR